BEGIN:VCALENDAR
VERSION:2.0
PRODID:-//ChamberMaster//Event Calendar 2.0//EN
METHOD:PUBLISH
X-PUBLISHED-TTL:P3D
REFRESH-INTERVAL:P3D
CALSCALE:GREGORIAN
BEGIN:VEVENT
DTSTART:20190528T213000Z
DTEND:20190528T233000Z
X-MICROSOFT-CDO-ALLDAYEVENT:FALSE
SUMMARY:Bridges to Board Service: Board Governance
DESCRIPTION:Board members need to perform certain key duties in order to legally and ethically fulfill their governance responsibilities. This session will define the fiduciary duty of board service in detail and explore exactly what effective governance entails. Strategies to assist current and prospective board members to effectively govern their organizations\, including managing conflicts of interest\, differentiating governance from management\, and navigating today's nonprofit landscape will also be covered.
X-ALT-DESC;FMTTYPE=text/html:Board members need to perform certain key duties in order to legally and ethically fulfill their governance responsibilities. This session will define the fiduciary duty of board service in detail and explore exactly what effective governance entails. Strategies to assist current and prospective board members to effectively govern their organizations\, including managing conflicts of interest\, differentiating governance from management\, and navigating today&rsquo\;s nonprofit landscape will also be covered.
LOCATION:Poughkeepsie Library- Boardman Branch 141 Boardman Road Poughkeepsie\, NY 12603
UID:e.2770.10480816
SEQUENCE:3
DTSTAMP:20260423T035041Z
URL:http://dutchesscountyregional.smartcms.site/events/details/bridges-to-board-service-board-governance-10480816
END:VEVENT

END:VCALENDAR
