BEGIN:VCALENDAR
VERSION:2.0
PRODID:-//ChamberMaster//Event Calendar 2.0//EN
METHOD:PUBLISH
X-PUBLISHED-TTL:P3D
REFRESH-INTERVAL:P3D
CALSCALE:GREGORIAN
BEGIN:VEVENT
DTSTART:20200605T160000Z
DTEND:20200605T173000Z
X-MICROSOFT-CDO-ALLDAYEVENT:FALSE
SUMMARY:Brown Bag Lunch Webinar Series - Preparing for Phase 2 of the NY Forward Reopening in the Hudson Valley: Understanding What's Required - Legal Issues and Best-Practice Tips
DESCRIPTION:Members of the Firm\, Eric L. Gordon\, Judson K. Siebert\, Andrew P. Tureaud\, Nicholas M. Ward-Willis\, Associate Drew Victoria Gamils and special guest\, Westchester County Attorney John Nonna will review and discuss the next Phase of the Governor's Reopening Plan and provide guidance for business owners.\n\nTopics include: Understanding the mandatory guidelines for businesses and how to best achieve and maintain compliance with the current guidance in the following industries included in Phase 2 of the NY Forward Reopening Plan:\n\n\n	Business/Professional Offices\;\n	Commercial Building Management\;\n	Essential and Phase 2 In-Store Retail\;\n	Real Estate/Rental Leasing\; and\n	Hair Salons and Barber Shops\n\n\nTO RSVP email Barbara Durkin.  An email with webinar sign-on information will be sent the morning of the program.
X-ALT-DESC;FMTTYPE=text/html:<p>Members of the Firm\,&nbsp\;<a href="https://www.kblaw.com/member/eric-l-gordon/" style="outline: 0px\; color: rgb(127\, 6\, 67)\; text-decoration: none\; box-sizing: border-box\; transition-property: color\; transition-duration: 0.25s\;">Eric L. Gordon</a>\,&nbsp\;<a href="https://www.kblaw.com/member/judson-k-siebert/" style="outline: 0px\; color: rgb(127\, 6\, 67)\; text-decoration: none\; box-sizing: border-box\; transition-property: color\; transition-duration: 0.25s\;">Judson K. Siebert</a>\,&nbsp\;<a href="https://www.kblaw.com/member/andrew-p-tureaud/" style="outline: 0px\; color: rgb(127\, 6\, 67)\; text-decoration: none\; box-sizing: border-box\; transition-property: color\; transition-duration: 0.25s\;">Andrew P. Tureaud</a>\,&nbsp\;<a href="https://www.kblaw.com/member/nicholas-m-ward-willis/" style="outline: 0px\; color: rgb(127\, 6\, 67)\; text-decoration: none\; box-sizing: border-box\; transition-property: color\; transition-duration: 0.25s\;">Nicholas M. Ward-Willis</a>\, Associate&nbsp\;<a href="https://www.kblaw.com/member/drew-victoria-gamils/" style="outline: 0px\; color: rgb(127\, 6\, 67)\; text-decoration: none\; box-sizing: border-box\; transition-property: color\; transition-duration: 0.25s\;">Drew Victoria Gamils</a>&nbsp\;and special guest\, Westchester County Attorney John Nonna will review and discuss the next Phase of the Governor&rsquo\;s Reopening Plan and provide guidance for business owners.</p>\n\n<p><strong>Topics include: Understanding the mandatory guidelines for businesses and how to best achieve and maintain compliance with the current guidance in the following industries included in Phase 2 of the NY Forward Reopening Plan:</strong></p>\n\n<ul>\n	<li>Business/Professional Offices\;</li>\n	<li>Commercial Building Management\;</li>\n	<li>Essential and Phase 2 In-Store Retail\;</li>\n	<li>Real Estate/Rental Leasing\; and</li>\n	<li>Hair Salons and Barber Shops</li>\n</ul>\n\n<p><strong>TO RSVP email&nbsp\;<a href="mailto:bdurkin@kblaw.com" style="outline: 0px\; color: rgb(127\, 6\, 67)\; text-decoration: none\; box-sizing: border-box\; transition-property: color\; transition-duration: 0.25s\;">Barbara Durkin</a>.&nbsp\; An email with webinar sign-on information will be sent the morning of the program.</strong></p>\n
LOCATION:Zoom Webinar - details and login information sent the morning of the event with email sign-up to bdurkin@kblaw.com
UID:e.2770.10483299
SEQUENCE:3
DTSTAMP:20260422T034935Z
URL:http://dutchesscountyregional.smartcms.site/events/details/brown-bag-lunch-webinar-series-preparing-for-phase-2-of-the-ny-forward-reopening-in-the-hudson-valley-understanding-what-s-required-legal-issues-and-best-practice-tips-10483299
END:VEVENT

END:VCALENDAR
