BEGIN:VCALENDAR
VERSION:2.0
PRODID:-//ChamberMaster//Event Calendar 2.0//EN
METHOD:PUBLISH
X-PUBLISHED-TTL:P3D
REFRESH-INTERVAL:P3D
CALSCALE:GREGORIAN
BEGIN:VEVENT
DTSTART:20181107T220000Z
DTEND:20181108T000000Z
X-MICROSOFT-CDO-ALLDAYEVENT:FALSE
SUMMARY:Business After Hours
DESCRIPTION:Monthly networking event.\n\n\n\nSponsored by: N&S Supply
X-ALT-DESC;FMTTYPE=text/html:<p><span style="font-size: 14px\;"><span style="font-family: arial\;">Monthly networking event.<br />\n<br />\n<strong>Sponsored by: <a href="http://www.nssupply.com/"><span style="color:#0000FF\;">N&amp\;S Supply</span></a></strong></span></span></p>\n
LOCATION:Whistling Willie's American Grill 738 US 9 Fishkill\, NY 12524
UID:e.2770.10476519
SEQUENCE:3
DTSTAMP:20260425T160328Z
URL:http://dutchesscountyregional.smartcms.site/events/details/business-after-hours-10476519
END:VEVENT

END:VCALENDAR
