BEGIN:VCALENDAR
VERSION:2.0
PRODID:-//ChamberMaster//Event Calendar 2.0//EN
METHOD:PUBLISH
X-PUBLISHED-TTL:P3D
REFRESH-INTERVAL:P3D
CALSCALE:GREGORIAN
BEGIN:VEVENT
DTSTART:20181212T220000Z
DTEND:20181213T000000Z
X-MICROSOFT-CDO-ALLDAYEVENT:FALSE
SUMMARY:Business After Hours
DESCRIPTION:Monthly networking event.\n\n\n\nSponsored by: Branding Pros and Stenger\, Roberts\, Davis\, & Diamond\, LLP
X-ALT-DESC;FMTTYPE=text/html:<p><span style="font-size: 14px\;"><span style="font-family: arial\;">Monthly networking event.<br />\n<br />\nSponsored by: <a href="http://www.brandingpros.com/">Branding Pros</a> and <a href="https://srddlaw.com/">Stenger\, Roberts\, Davis\, &amp\; Diamond\, LLP</a></span></span></p>\n
LOCATION:The Italian Center 227 Mill Street Poughkeepsie\, NY 12601
UID:e.2770.10476525
SEQUENCE:3
DTSTAMP:20260425T142440Z
URL:http://dutchesscountyregional.smartcms.site/events/details/business-after-hours-10476525
END:VEVENT

END:VCALENDAR
