BEGIN:VCALENDAR
VERSION:2.0
PRODID:-//ChamberMaster//Event Calendar 2.0//EN
METHOD:PUBLISH
X-PUBLISHED-TTL:P3D
REFRESH-INTERVAL:P3D
CALSCALE:GREGORIAN
BEGIN:VEVENT
DTSTART:20190123T220000Z
DTEND:20190124T000000Z
X-MICROSOFT-CDO-ALLDAYEVENT:FALSE
SUMMARY:Business After Hours
DESCRIPTION:Monthly networking event.\n\n\n\nSponsored by: Quint Investments and Insurance and Residential Home Funding
X-ALT-DESC;FMTTYPE=text/html:<p><span style="font-size:16px\;"><span style="font-family:times new roman\;">Monthly networking event.<br />\n<br />\nSponsored by:&nbsp\;<a href="http://www.quintii.com" target="_blank"><span style="color:#0000FF\;"><strong><span style="margin: 0px\;">Quint Investments and Insurance</span></strong></span></a> and <a href="http://www.gorhf.com" target="_blank"><span style="color:#0000FF\;"><strong>Residential Home Funding</strong></span></a></span></span></p>\n
LOCATION:Shadows On The Hudson 176 Rinaldi Boulevard Poughkeepsie\, NY 12601
UID:e.2770.10479769
SEQUENCE:3
DTSTAMP:20260425T123753Z
URL:http://dutchesscountyregional.smartcms.site/events/details/business-after-hours-10479769
END:VEVENT

END:VCALENDAR
