BEGIN:VCALENDAR
VERSION:2.0
PRODID:-//ChamberMaster//Event Calendar 2.0//EN
METHOD:PUBLISH
X-PUBLISHED-TTL:P3D
REFRESH-INTERVAL:P3D
CALSCALE:GREGORIAN
BEGIN:VEVENT
DTSTART:20190228T220000Z
DTEND:20190301T000000Z
X-MICROSOFT-CDO-ALLDAYEVENT:FALSE
SUMMARY:Business After Hours
DESCRIPTION:Monthly networking event.\n\n\n\nSponsored by: Ulster Savings Bank
X-ALT-DESC;FMTTYPE=text/html:<p><span style="font-size: 14px\;"><span style="font-family: arial\;">Monthly networking event.<br />\n<br />\n<strong>Sponsored by: <a href="https://www.ulstersavings.com/home/home"><span style="color: rgb(0\, 0\, 255)\;">Ulster Savings Bank</span></a></strong></span></span></p>\n
LOCATION:Adams Fairacre Farms 765 Dutchess Turnpike Poughkeepsie\, NY 12603
UID:e.2770.10479775
SEQUENCE:3
DTSTAMP:20260423T083816Z
URL:http://dutchesscountyregional.smartcms.site/events/details/business-after-hours-10479775
END:VEVENT

END:VCALENDAR
