BEGIN:VCALENDAR
VERSION:2.0
PRODID:-//ChamberMaster//Event Calendar 2.0//EN
METHOD:PUBLISH
X-PUBLISHED-TTL:P3D
REFRESH-INTERVAL:P3D
CALSCALE:GREGORIAN
BEGIN:VEVENT
DTSTART:20190327T210000Z
DTEND:20190327T230000Z
X-MICROSOFT-CDO-ALLDAYEVENT:FALSE
SUMMARY:Business After Hours
DESCRIPTION:Monthly networking event.\n\n\n\nSponsored by: TEG Federal Credit Union and The New York State Bridge Authority
X-ALT-DESC;FMTTYPE=text/html:<p><span style="font-size: 14px\;"><span style="font-family: arial\;">Monthly networking event.<br />\n<br />\n<span style="font-family: verdana\;"><strong>Sponsored by: <a href="https://www.tegfcu.com/" target="_blank"><span style="color: rgb(0\, 0\, 255)\;">TEG Federal Credit Union</span></a><span style="color: rgb(0\, 0\, 255)\;">&nbsp\;</span>and&nbsp\;</strong></span></span><span style="font-family: verdana\;"><strong><a href="http://www.nysba.state.ny.us/" target="_blank"><span style="color: rgb(0\, 0\, 255)\;"><span style="caret-color: rgb(0\, 0\, 0)\; text-size-adjust: auto\;">The New York State Bridge Authority</span></span></a></strong></span></span></p>\n
LOCATION:The Culinary Institute of America (The Marriott Pavilion) 1946 Campus Drive\, Hyde Park
UID:e.2770.10479786
SEQUENCE:3
DTSTAMP:20260423T071949Z
URL:http://dutchesscountyregional.smartcms.site/events/details/business-after-hours-10479786
END:VEVENT

END:VCALENDAR
