BEGIN:VCALENDAR
VERSION:2.0
PRODID:-//ChamberMaster//Event Calendar 2.0//EN
METHOD:PUBLISH
X-PUBLISHED-TTL:P3D
REFRESH-INTERVAL:P3D
CALSCALE:GREGORIAN
BEGIN:VEVENT
DTSTART:20191113T220000Z
DTEND:20191114T000000Z
X-MICROSOFT-CDO-ALLDAYEVENT:FALSE
SUMMARY:Business After Hours
DESCRIPTION:Monthly networking event.\n\n\n\nSponsored by: N&S Supply of Fishkill
X-ALT-DESC;FMTTYPE=text/html:<p><span style="font-size: 14px\;"><span style="font-family: arial\;">Monthly networking event.<br />\n<br />\n<span style="font-size: 16px\;"><strong>Sponsored by: <a href="https://www.nssupply.com/employment.html" target="_blank"><span style="color: rgb(0\, 0\, 255)\;">N&amp\;S Supply of Fishkill</span></a></strong></span></span></span></p>\n
LOCATION:Sloop Brewing Co. 755 East Drive\, Suite 106 Hopewell Junction
UID:e.2770.10479899
SEQUENCE:3
DTSTAMP:20260422T154829Z
URL:http://dutchesscountyregional.smartcms.site/events/details/business-after-hours-10479899
END:VEVENT

END:VCALENDAR
