BEGIN:VCALENDAR
VERSION:2.0
PRODID:-//ChamberMaster//Event Calendar 2.0//EN
METHOD:PUBLISH
X-PUBLISHED-TTL:P3D
REFRESH-INTERVAL:P3D
CALSCALE:GREGORIAN
BEGIN:VEVENT
DTSTART:20190626T210000Z
DTEND:20190626T230000Z
X-MICROSOFT-CDO-ALLDAYEVENT:FALSE
SUMMARY:Business After Hours
DESCRIPTION:Monthly networking event.\n\n\n\nSponsored by: RBT CPAs\, LLP
X-ALT-DESC;FMTTYPE=text/html:<br />\n<span style="font-size: medium\;"><span style="font-family: arial\,sans-serif\;">Monthly networking event.<br />\n<br />\nSponsored by: <strong><span style="font-family: arial\,sans-serif\;"><a href="https://www.rbtcpas.com/" target="_blank"><span style="color: rgb(0\, 0\, 255)\;">RBT CPAs\, LLP</span></a></span></strong></span></span><br />\n<br />\n&nbsp\;
LOCATION:CJ's Pizza & Pasta 353 Old Post Road Rhinebeck
UID:e.2770.10480823
SEQUENCE:3
DTSTAMP:20260423T021210Z
URL:http://dutchesscountyregional.smartcms.site/events/details/business-after-hours-10480823
END:VEVENT

END:VCALENDAR
