BEGIN:VCALENDAR
VERSION:2.0
PRODID:-//ChamberMaster//Event Calendar 2.0//EN
METHOD:PUBLISH
X-PUBLISHED-TTL:P3D
REFRESH-INTERVAL:P3D
CALSCALE:GREGORIAN
BEGIN:VEVENT
DTSTART:20200122T220000Z
DTEND:20200123T000000Z
X-MICROSOFT-CDO-ALLDAYEVENT:FALSE
SUMMARY:Business After Hours
DESCRIPTION:Monthly networking event.\n\n\n\nSponsored by: M&T Bank and Quint Investments and Insurance\, Wayne Quint\, CFP
X-ALT-DESC;FMTTYPE=text/html:<p><span style="font-size:16px\;">Monthly networking event.<br />\n<br />\n<strong>Sponsored by:</strong> <a href="https://www.mtb.com/home-page" target="_blank"><span style="color:#0000FF\;">M&amp\;T Bank</span></a> and&nbsp\;<a href="https://www.quintii.com/" target="_blank"><span style="color:#0000FF\;">Quint Investments and Insurance\, Wayne Quint\, CFP</span></a></span><br />\n&nbsp\;</p>\n
LOCATION:Shadows On The Hudson 176 Rinaldi Boulevard Poughkeepsie
UID:e.2770.10481430
SEQUENCE:3
DTSTAMP:20260422T135649Z
URL:http://dutchesscountyregional.smartcms.site/events/details/business-after-hours-10481430
END:VEVENT

END:VCALENDAR
