BEGIN:VCALENDAR
VERSION:2.0
PRODID:-//ChamberMaster//Event Calendar 2.0//EN
METHOD:PUBLISH
X-PUBLISHED-TTL:P3D
REFRESH-INTERVAL:P3D
CALSCALE:GREGORIAN
BEGIN:VEVENT
DTSTART:20180627T210000Z
DTEND:20180628T010000Z
X-MICROSOFT-CDO-ALLDAYEVENT:FALSE
SUMMARY:Business After Hours - Floating Business Break
DESCRIPTION:***This event is at full capacity.\n\nPlease call Nicole (845) 454-1700 ext. 1000 to be added to the waiting list.\n\n\n\nThe Chamber's monthly networking event hits the Hudson with River Rose Tours out of Shadows Marina in Poughkeepsie. Network\, relax\, dine and unwind. This year\, we have a Margaritaville theme\, so grab your lei and and meet us on the River Rose!\n\nBoarding begins promptly at 5:30 PM with departure at 6 PM sharp.\n\nThe cruise lasts until 9 PM.\n\n\n\nCatered by Poughkeepsie Ice House\n\nMusic by John Hannah Mobile Music Services\n\nMembers only event.\n\nTickets - $50 per person\n\nPlease call (845) 454-1700 ext. 1000 for reservations\, space is limited!\n\n\n\nSponsored by: Mehl & Associates\, CPAs\, Branding Pros\, Stenger\, Roberts\, Davis & Diamond\, LLP\, Integrated Enterprise Solutions\, Inc.\, and Poughkeepsie Galleria
X-ALT-DESC;FMTTYPE=text/html:<p><span style="color: rgb(255\, 0\, 0)\;"><strong><span style="font-size: 12px\;"><span style="font-size: 14px\;">***This event is at full capacity.<br />\nPlease call Nicole (845) 454-1700 ext. 1000 to be added to the waiting list.</span></span></strong></span><br />\n<br />\n<span style="font-size: 16px\;"><span style="font-family: times new roman\;">The Chamber&#39\;s monthly networking event hits the Hudson with River Rose Tours out of Shadows Marina in Poughkeepsie. Network\, relax\, dine and unwind.&nbsp\;<span style="color: rgb(51\, 51\, 51)\;">This year\, we have a Margaritaville theme\, so grab your lei and and meet us on the River Rose!</span></span></span><span style="color: rgb(51\, 51\, 51)\; font-family: &quot\;Arial&quot\;\,sans-serif\; font-size: 10pt\;"><o:p></o:p></span></p>\n\n<p><span style="font-size: 14px\;"><span style="font-family: times new roman\;">Boarding begins promptly at 5:30&nbsp\;PM&nbsp\;with departure at 6 PM sharp.<br />\nThe cruise lasts until 9 PM.</span></span><br />\n<br />\n<span style="font-size: 14px\;"><span style="color: rgb(51\, 51\, 51)\;"><span style="font-family: arial\,sans-serif\;">Catered by <strong>Poughkeepsie&nbsp\;Ice House</strong><br />\nMusic by John Hannah Mobile Music Services</span></span></span></p>\n\n<p><span style="font-size: 16px\;"><span style="font-family: times new roman\;"><strong>Members only event.</strong><br />\n<strong><span style="color: rgb(51\, 51\, 51)\;">Tickets - $50 per person</span></strong></span></span><span style="color: rgb(51\, 51\, 51)\; font-family: &quot\;Arial&quot\;\,sans-serif\; font-size: 10pt\;"><o:p></o:p></span></p>\n\n<p><span style="font-size: 16px\;"><span style="font-family: times new roman\;"><span style="font-size: 14px\;">Please call (845) 454-1700 ext. 1000 for reservations\, space is limited!</span><br />\n<br />\n<strong>Sponsored by</strong>: <a href="http://www.hudsonvalleycpas.com/"><span style="color: rgb(0\, 0\, 255)\;">Mehl &amp\; Associates\, CPAs</span></a><span style="color: rgb(0\, 0\, 255)\;">\, </span><a href="http://www.brandingpros.com/"><span style="color: rgb(0\, 0\, 255)\;">Branding Pros</span></a><span style="color: rgb(0\, 0\, 255)\;">\, </span><a href="https://srddlaw.com/"><span style="color: rgb(0\, 0\, 255)\;">Stenger\, Roberts\, Davis &amp\; Diamond\, LLP\,</span></a><span style="color: rgb(0\, 0\, 255)\;"> </span><a href="http://ies-ny.com/"><span style="color: rgb(0\, 0\, 255)\;">Integrated Enterprise Solutions\, Inc.\,</span></a><span style="color: rgb(0\, 0\, 255)\;"> </span><span style="color: rgb(0\, 0\, 0)\;">and</span><span style="color: rgb(0\, 0\, 255)\;"> </span><a href="https://www.poughkeepsiegalleriamall.com/"><span style="color: rgb(0\, 0\, 255)\;">Poughkeepsie Galleria</span></a> </span></span></p>\n
LOCATION:Shadows On The Hudson 176 Rinaldi Boulevard Poughkeepsie\, NY 12601
UID:e.2770.10476437
SEQUENCE:3
DTSTAMP:20260426T022321Z
URL:http://dutchesscountyregional.smartcms.site/events/details/business-after-hours-floating-business-break-10476437
END:VEVENT

END:VCALENDAR
