BEGIN:VCALENDAR
VERSION:2.0
PRODID:-//ChamberMaster//Event Calendar 2.0//EN
METHOD:PUBLISH
X-PUBLISHED-TTL:P3D
REFRESH-INTERVAL:P3D
CALSCALE:GREGORIAN
BEGIN:VEVENT
DTSTART:20200220T123000Z
DTEND:20200220T140000Z
X-MICROSOFT-CDO-ALLDAYEVENT:FALSE
SUMMARY:Business Education Seminar
DESCRIPTION:This complimentary seminar\, aptly named "Chamber 102: From a Member's Perspective\," will be a roundtable from Chamber staff and members. They will give an overview of the Chamber\, The Chamber Foundation\, and The Workforce Development Center. They will discuss the advocacy of the Chamber\, what SCORE/SBDC is\, volunteering and being a part of committees\, Ribbon Cuttings for new businesses\, Member News\, and Radio and Marketing opportunities. This is a great opportunity to build and develop your membership and involvement with the Chamber. \n\n\n\nSponsored by: Stenger\, Roberts\, Davis & Diamond\, LLP and KeyBank
X-ALT-DESC;FMTTYPE=text/html:<p style="background: white\; margin: 0in 0in 0pt\;"><span style="font-size:16px\;"><span style="font-family:tahoma\;"><span new="" times=""><span style="color: rgb(0\, 0\, 0)\;">This complimentary seminar\, aptly named &ldquo\;Chamber 102: From a Member&rsquo\;s Perspective\,&rdquo\; will be a roundtable from Chamber staff and members. They will give an overview of the Chamber\, The Chamber Foundation\, and The Workforce Development Center. They will discuss the advocacy of the Chamber\, what SCORE/SBDC is\, volunteering and being a part of committees\, Ribbon Cuttings for new businesses\, Member News\, and Radio and Marketing opportunities. This is a great opportunity to build and develop your membership and involvement with the Chamber.&nbsp\;</span></span><br />\n<br />\n<strong style=""><span style="background-color: transparent\;">Sponsored by: </span></strong><strong style=""><span style="font-variant-numeric: normal\; font-variant-east-asian: normal\; font-weight: 400\; background-color: transparent\; color: rgb(0\, 0\, 255)\;"><a href="http://srddlaw.com/" style="font-family: arial\; font-size: 16px\; font-variant-numeric: normal\; font-variant-east-asian: normal\; font-weight: 400\; background-color: transparent\;" target="_blank">Stenger\, Roberts\, Davis &amp\; Diamond\, LLP</a></span><span style="font-variant-numeric: normal\; font-variant-east-asian: normal\; font-weight: 400\; background-color: transparent\;">&nbsp\;</span><strong style=""><span style="font-variant-numeric: normal\; font-variant-east-asian: normal\; font-weight: 400\; background-color: transparent\;">and <a href="https://srddlaw.com/">KeyBank</a></span></strong></strong></span></span></p>\n
LOCATION:Dutchess County Regional Chamber of Commerce 1 Civic Center Plaza\, 4th Floor Chamber Conference Room Poughkeepsie\, NY 12601
UID:e.2770.10481432
SEQUENCE:3
DTSTAMP:20260422T103426Z
URL:http://dutchesscountyregional.smartcms.site/events/details/business-education-seminar-10481432
END:VEVENT

END:VCALENDAR
