BEGIN:VCALENDAR
VERSION:2.0
PRODID:-//ChamberMaster//Event Calendar 2.0//EN
METHOD:PUBLISH
X-PUBLISHED-TTL:P3D
REFRESH-INTERVAL:P3D
CALSCALE:GREGORIAN
BEGIN:VEVENT
DTSTART:20181204T123000Z
DTEND:20181204T140000Z
X-MICROSOFT-CDO-ALLDAYEVENT:FALSE
SUMMARY:Business Education Seminar - Proper vs. Knee-Jerk Planning: Legal Lessons Learned
DESCRIPTION:The Business Education Committee will present a seminar focusing on real-life business situations\, their legal ramifications and how to not let them happen to you.  \n\n\n\nGuest Presenters from Stenger\, Roberts\, Davis & Diamond\, SRDD Law:\n\nSteve Diamond\n\nJessica J. Glass\n\nIan C. Lindars \n\n\n\nThis event is sponsored by Stenger\, Roberts\, Davis & Diamond\, LLP and Mehl & Associates\, CPAs.
X-ALT-DESC;FMTTYPE=text/html:<p style="margin: 0px\;"><br />\n<span style="font-size:14pt\;"><span style="font-family:times new roman\,serif\;"><span style="color:black\;">The Business Education Committee will present a seminar focusing <span style="word-spacing:0px\;orphans:2\;float:none\;-webkit-text-stroke-width:0px\;">on real-life business situations\, their legal ramifications and how to not let them happen to you.&nbsp\; </span></span><br />\n<br />\n<strong><span style="font-size:14pt\;"><span style="color:black\;">Guest Presenters from Stenger\, Roberts\, Davis &amp\; Diamond\, SRDD Law:</span></span></strong></span></span><br />\n<span style="font-size:14pt\;"><span style="font-family:times new roman\,serif\;"><span style="color:black\;">Steve Diamond<br />\nJessica J. Glass<br />\nIan C. Lindars&nbsp\;<br />\n<br />\nThis event is sponsored by </span></span></span><strong><span style="font-size:14pt\;"><span style="font-family:times new roman\,serif\;"><span style="color:blue\;"><a href="https://srddlaw.com/" style="orphans:2\;-webkit-text-stroke-width:0px\;word-spacing:0px\;"><span style="color:blue\;">Stenger\, Roberts\, Davis &amp\; Diamond\, LLP </span></a></span></span></span></strong><span style="font-size:14pt\;"><span style="font-family:times new roman\,serif\;"><span style="color:black\;">and </span></span></span><strong><span style="font-size:14pt\;"><span style="font-family:times new roman\,serif\;"><span style="color:blue\;"><a href="http://www.hudsonvalleycpas.com/" style="orphans:2\;-webkit-text-stroke-width:0px\;word-spacing:0px\;"><span style="color:blue\;">Mehl &amp\; Associates\, CPAs</span></a></span></span></span></strong><span style="font-size:14pt\;"><span style="font-family:times new roman\,serif\;"><span style="color:black\;">.&nbsp\;</span></span></span><br />\n&nbsp\;</p>\n
LOCATION:Dutchess County Regional Chamber of Commerce One Civic Center Plaza Suite 400 Poughkeepsie NY 12601
UID:e.2770.10476524
SEQUENCE:3
DTSTAMP:20260425T142612Z
URL:http://dutchesscountyregional.smartcms.site/events/details/business-education-seminar-proper-vs-knee-jerk-planning-legal-lessons-learned-10476524
END:VEVENT

END:VCALENDAR
