BEGIN:VCALENDAR
VERSION:2.0
PRODID:-//ChamberMaster//Event Calendar 2.0//EN
METHOD:PUBLISH
X-PUBLISHED-TTL:P3D
REFRESH-INTERVAL:P3D
CALSCALE:GREGORIAN
BEGIN:VEVENT
DTSTART:20190207T123000Z
DTEND:20190207T140000Z
X-MICROSOFT-CDO-ALLDAYEVENT:FALSE
SUMMARY:Business Education Seminar: Using Video to Market Your Brand
DESCRIPTION:Business Education Seminar\n\n \nThe Business Education Committee will present a seminar. \np.p1 {margin: 0.0px 0.0px 0.0px 0.0px\; font: 15.0px Calibri}\n\n\n\nSpeakers:\n\n\n	Chase Hutchison\, VP of Business Development\, Mack Media Group\n	Tom Langan\, Owner\, Talex Media\n	Michelle Barone-Lepore\, Senior Vice President of Marketing at Rhinebeck Bank\n\n\nA light breakfast is included\n\n\nSponsored by: Stenger\, Roberts\, Davis & Diamond\, LLP and Rondout Savings Bank
X-ALT-DESC;FMTTYPE=text/html:<p style="background: white\; margin: 0in 0in 0pt\;"><span style="color: rgb(29\, 33\, 41)\; mso-fareast-font-family: &quot\;Times New Roman&quot\;\; mso-bidi-font-family: Helvetica\;">Business Education Seminar</span><br />\n&nbsp\;</p>\nThe Business Education Committee will present a seminar.&nbsp\;\n<style type="text/css">p.p1 {margin: 0.0px 0.0px 0.0px 0.0px\; font: 15.0px Calibri}\n</style>\n<p class="p1"><br />\nSpeakers:</p>\n\n<ul>\n	<li class="p1">Chase Hutchison\, VP of Business Development\, <a href="https://mackmediagroup.com/">Mack Media Group</a></li>\n	<li class="p1">Tom Langan\, Owner\, <a href="https://www.talexmedia.com/">Talex Media</a></li>\n	<li class="p1">Michelle Barone-Lepore\, Senior Vice President of Marketing at <a href="https://www.rhinebeckbank.com/">Rhinebeck Bank</a></li>\n</ul>\n\n<p class="p1">A light breakfast is included</p>\n<br />\n<span style="font-size: 16px\;">Sponsored by: <a href="http://srddlaw.com/" target="_blank">Stenger\, Roberts\, Davis &amp\; Diamond\, LLP</a> and <a href="https://www.rondoutbank.com/" target="_blank">Rondout Savings Bank</a></span>
LOCATION:Poughkeepsie Galleria Community Room 2001 South Road Poughkeepsie\, NY 12601
UID:e.2770.10479771
SEQUENCE:3
DTSTAMP:20260423T084053Z
URL:http://dutchesscountyregional.smartcms.site/events/details/business-education-seminar-using-video-to-market-your-brand-10479771
END:VEVENT

END:VCALENDAR
