BEGIN:VCALENDAR
VERSION:2.0
PRODID:-//ChamberMaster//Event Calendar 2.0//EN
METHOD:PUBLISH
X-PUBLISHED-TTL:P3D
REFRESH-INTERVAL:P3D
CALSCALE:GREGORIAN
BEGIN:VEVENT
DTSTART:20200115T230000Z
DTEND:20200116T010000Z
X-MICROSOFT-CDO-ALLDAYEVENT:FALSE
SUMMARY:Camino a la Iniciativa Empresarial
DESCRIPTION:No se pierda este taller dise ado para introducir conceptos de como ser un due o de negocios exitoso.\n\n\n\nAprenda acerca de:\n\n\n	\n	 Qu  implica ser un due o de negocio? \n	\n	\n	 Qu  se necesita hacer para empezar su empresa?\n	\n	\n	 Por qu  fracasan los negocios?\n	\n	\n	Donde conseguir permisos y licencias\n	\n	\n	Recursos que WEDC ofrece para ayudarlo a tener  xito\n	\n\n\n\n\nEste taller presentado en espa ol es gratuito pero el registro es obligatorio: \n\nhttps://wedcbiz.org/event/camino-a-la-iniciativa-empresarial-newburgh-3/
X-ALT-DESC;FMTTYPE=text/html:<p><span style="font-size:16px"><strong>No se pierda este taller dise&ntilde\;ado para introducir conceptos de como ser un due&ntilde\;o de negocios exitoso.</strong><br />\n<br />\n<u><strong>Aprenda acerca de:</strong></u></span></p>\n\n<ul>\n	<li>\n	<p><span style="font-size:16px">&iquest\;Qu&eacute\; implica ser un due&ntilde\;o de negocio?&nbsp\;</span></p>\n	</li>\n	<li>\n	<p><span style="font-size:16px">&iquest\;Qu&eacute\; se necesita hacer para empezar su empresa?</span></p>\n	</li>\n	<li>\n	<p><span style="font-size:16px">&iquest\;Por qu&eacute\; fracasan los negocios?</span></p>\n	</li>\n	<li>\n	<p><span style="font-size:16px">Donde conseguir permisos y licencias</span></p>\n	</li>\n	<li>\n	<p><span style="font-size:16px">Recursos que WEDC ofrece para ayudarlo a tener &eacute\;xito</span></p>\n	</li>\n</ul>\n\n<p><br />\n<span style="font-size:16px">Este taller presentado en espa&ntilde\;ol es gratuito pero el registro es obligatorio:&nbsp\;<br />\n<a href="https://wedcbiz.org/event/camino-a-la-iniciativa-empresarial-newburgh-3/">https://wedcbiz.org/event/camino-a-la-iniciativa-empresarial-newburgh-3/&nbsp\;</a></span></p>\n
LOCATION:Biblioteca Gratuita de Newburgh 124 Grand St. Newburgh\, NY 12550
UID:e.2770.10482608
SEQUENCE:3
DTSTAMP:20260422T121704Z
URL:http://dutchesscountyregional.smartcms.site/events/details/camino-a-la-iniciativa-empresarial-01-15-2020-10482608
END:VEVENT

END:VCALENDAR
