BEGIN:VCALENDAR
VERSION:2.0
PRODID:-//ChamberMaster//Event Calendar 2.0//EN
METHOD:PUBLISH
X-PUBLISHED-TTL:P3D
REFRESH-INTERVAL:P3D
CALSCALE:GREGORIAN
BEGIN:VEVENT
DTSTART;VALUE=DATE:20190622
DTEND;VALUE=DATE:20190625
TRANSP:TRANSPARENT
X-MICROSOFT-CDO-ALLDAYEVENT:TRUE
SUMMARY:Camp Hillcroft's Lifeguard Course
DESCRIPTION:Camp Hillcroft will be offering a Lifeguard Course\, including Waterfront Module.  We also offer re certification for Lifeguards and CPR Courses
X-ALT-DESC;FMTTYPE=text/html:Camp Hillcroft will be offering a Lifeguard Course\, including Waterfront Module.&nbsp\; We also offer re certification for Lifeguards and CPR Courses
LOCATION:Camp Hillcroft 1562 Route 55 LaGrangeville\, NY 12540
UID:e.2770.10480764
SEQUENCE:3
DTSTAMP:20260423T021219Z
URL:http://dutchesscountyregional.smartcms.site/events/details/camp-hillcroft-s-lifeguard-course-10480764
END:VEVENT

END:VCALENDAR
