BEGIN:VCALENDAR
VERSION:2.0
PRODID:-//ChamberMaster//Event Calendar 2.0//EN
METHOD:PUBLISH
X-PUBLISHED-TTL:P3D
REFRESH-INTERVAL:P3D
CALSCALE:GREGORIAN
BEGIN:VEVENT
DTSTART:20190621T160000Z
DTEND:20190621T173000Z
X-MICROSOFT-CDO-ALLDAYEVENT:FALSE
SUMMARY:Cancer Support Group for Latina Women
DESCRIPTION:Latina women who have been diagnosed with cancer are invited to join a bilingual support group at the hospital\, facilitated by Claudia Rivas\, LMSW. The group meets on the first and third Fridays of the month.
X-ALT-DESC;FMTTYPE=text/html:Latina women who have been diagnosed with cancer are invited to join a bilingual support group at the hospital\, facilitated by Claudia Rivas\, LMSW. The group meets on the first and third Fridays of the month.
LOCATION:NewYork-Presbyterian Hudson Valley Hospital 1978 Crompond Road Cortlandt Manor\, NY Cancer Center Conference Room
UID:e.2770.10480807
SEQUENCE:3
DTSTAMP:20260423T021321Z
URL:http://dutchesscountyregional.smartcms.site/events/details/cancer-support-group-for-latina-women-06-21-2019-10480807
END:VEVENT

END:VCALENDAR
