BEGIN:VCALENDAR
VERSION:2.0
PRODID:-//ChamberMaster//Event Calendar 2.0//EN
METHOD:PUBLISH
X-PUBLISHED-TTL:P3D
REFRESH-INTERVAL:P3D
CALSCALE:GREGORIAN
BEGIN:VEVENT
DTSTART:20190601T140000Z
DTEND:20190601T170000Z
X-MICROSOFT-CDO-ALLDAYEVENT:FALSE
SUMMARY:Car Seat Safety Installation
DESCRIPTION:Peekskill Police Department will be on-site to assist you with the installation of your car seat and inspect your already installed car seat. Installing a car seat can be challenging\, especially for first-time parents\, grandparents\, and other caregivers.
X-ALT-DESC;FMTTYPE=text/html:Peekskill Police Department will be on-site to assist you with the installation of your car seat and inspect your already installed car seat. Installing a car seat can be challenging\, especially for first-time parents\, grandparents\, and other caregivers.
LOCATION:NewYork-Presbyterian Hudson Valley Hospital Pataki Center 1992 Crompond Road Cortlandt Manor\, NY
UID:e.2770.10480804
SEQUENCE:3
DTSTAMP:20260423T021227Z
URL:http://dutchesscountyregional.smartcms.site/events/details/car-seat-safety-installation-10480804
END:VEVENT

END:VCALENDAR
