BEGIN:VCALENDAR
VERSION:2.0
PRODID:-//ChamberMaster//Event Calendar 2.0//EN
METHOD:PUBLISH
X-PUBLISHED-TTL:P3D
REFRESH-INTERVAL:P3D
CALSCALE:GREGORIAN
BEGIN:VEVENT
DTSTART:20190523T140000Z
DTEND:20190523T160000Z
X-MICROSOFT-CDO-ALLDAYEVENT:FALSE
SUMMARY:CareMount Medical To Host Free Educational Medicare Meetings
DESCRIPTION:CareMount Medical will be hosting free\, educational Medicare meetings throughout the Hudson Valley from February 19\, 2019 through May 23\, 2019. Each seminar will discuss the basics of Medicare and your coverage options.\n\n \n\nIf you need help understanding your Medicare options\, come join us at a meeting! You'll learn about the choices you have such as:\n\n\n	Medicare Prescription Drug Plans\n	Original Medicare\n	Medicare Supplement Insurance Plans\n	Medicare Advantage Plans
X-ALT-DESC;FMTTYPE=text/html:<p style="margin: 0px\;"><font face="Calibri"><font size="3"><a href="https://nam04.safelinks.protection.outlook.com/?url=https%3A%2F%2Fclicktime.symantec.com%2Fa%2F1%2FYCBXEsSnUK3F-nVn2wIDSkOOwFChS5vhDaS57q-E7Wk%3D%3Fd%3DGKRVGFAumtxNHguNjiS7DSjdMampIaCq2-94tgQ5oDtjSlgOwRefDthNPJJFP2UhbDBoOgJQyNCK-49lJq9WoVBhXbI21pg7V9baJJeLm2F9uvHsnMgqPu8WIlPWfI8oroE1s5cbankIZJTPoo0HPPo3b7s7ANnuOtLhr8Clax27hxzi3sG6cRh4FwB_-m8dO0HZNpTcqGcO8VAL9Ox0Aa8lV9d0NAHFnRE9KjEOEf_0srWuAW28i83aqSJSTzNztzBA1HUeRt1YepAUgMH5FLZOTpAbl7w890YJ0TJldON59rAOrE7Y-f4cfXq-UP-flShtYODp5YCCaxfu_cRTFuf6XfKCruHRd6ptUFcFzlxYhgOpXGf4r58POfW_Koa7OcC9vH47VAdMvCUcSmpTYEHYTjFcbFwqSlqDtkQmQV-zHUR8LA%253D%253D%26u%3Dhttps%253A%252F%252Fwww.caremountmedical.com%252F&amp\;data=02%7C01%7Cfrontdesk%40dcrcoc.org%7C978db278ffad4d6b76bb08d6ce6d4bf8%7C2f12d5574b0742e1bc30171797d71f6b%7C1%7C0%7C636923366192570871&amp\;sdata=sKqA3bD%2BBBEJ6UeBr3KKzFKQ2TuCp5ZriwmHobnGfeY%3D&amp\;reserved=0"><font color="#0563c1">CareMount Medical</font></a></font></font><font face="Calibri"><font color="#000000" size="3"> will be hosting free\, educational Medicare meetings throughout the Hudson Valley from February 19\, 2019 through May 23\, 2019. Each seminar will discuss the basics of Medicare and your coverage options.</font></font></p>\n\n<p style="margin: 0px\;"><font color="#000000" face="Calibri" size="3">&nbsp\;</font></p>\n\n<p style="background: white\; margin: 0px\;"><font color="#000000" face="Calibri" size="3">If you need help understanding your Medicare options\, come join us at a meeting! You&rsquo\;ll learn about the choices you have such as:</font></p>\n\n<ul style="margin-top:0in" type="disc">\n	<li style="background: white\; margin: 0px\; color: rgb(0\, 0\, 0)\; font-family: &quot\;Calibri&quot\;\,sans-serif\; font-size: 11pt\; font-style: normal\; font-weight: 400\;"><span style="margin: 0px\;">Medicare Prescription Drug Plans</span></li>\n	<li style="background: white\; margin: 0px\; color: rgb(0\, 0\, 0)\; font-family: &quot\;Calibri&quot\;\,sans-serif\; font-size: 11pt\; font-style: normal\; font-weight: 400\;"><span style="margin: 0px\;">Original Medicare</span></li>\n	<li style="background: white\; margin: 0px\; color: rgb(0\, 0\, 0)\; font-family: &quot\;Calibri&quot\;\,sans-serif\; font-size: 11pt\; font-style: normal\; font-weight: 400\;"><span style="margin: 0px\;">Medicare Supplement Insurance Plans</span></li>\n	<li style="background: white\; margin: 0px\; color: rgb(0\, 0\, 0)\; font-family: &quot\;Calibri&quot\;\,sans-serif\; font-size: 11pt\; font-style: normal\; font-weight: 400\;"><span style="margin: 0px\;">Medicare Advantage Plans</span></li>\n</ul>\n
LOCATION:Rhinebeck CareMount Medical Office (6734 Route 9 Rhinebeck\, NY 12572)
UID:e.2770.10480750
SEQUENCE:3
DTSTAMP:20260423T040359Z
URL:http://dutchesscountyregional.smartcms.site/events/details/caremount-medical-to-host-free-educational-medicare-meetings-10480750
END:VEVENT

END:VCALENDAR
