BEGIN:VCALENDAR
VERSION:2.0
PRODID:-//ChamberMaster//Event Calendar 2.0//EN
METHOD:PUBLISH
X-PUBLISHED-TTL:P3D
REFRESH-INTERVAL:P3D
CALSCALE:GREGORIAN
BEGIN:VEVENT
DTSTART:20180609T220000Z
DTEND:20180610T000000Z
X-MICROSOFT-CDO-ALLDAYEVENT:FALSE
SUMMARY:Celebrating 40 Years of Figure Skating
DESCRIPTION:2018 Annual McCann Ice Arena Skating Exhibition Saturday\, June 9\, 2018 "Celebrating 40 Years of Figure Skating!" Tickets: $10.00 Adult General Admission\, available for purchase at the Mid-Hudson Civic Center Box Office and Pro-Shop.
X-ALT-DESC;FMTTYPE=text/html:2018 Annual McCann Ice Arena Skating Exhibition Saturday\, June 9\, 2018 &quot\;Celebrating 40 Years of Figure Skating!&quot\; Tickets: $10.00 Adult General Admission\, available for purchase at the Mid-Hudson Civic Center Box Office and Pro-Shop.
LOCATION:McCann Ice Arena 14 Civic Center Plaza Poughkeepsie\, NY 12601
UID:e.2770.10477835
SEQUENCE:3
DTSTAMP:20260426T022705Z
URL:http://dutchesscountyregional.smartcms.site/events/details/celebrating-40-years-of-figure-skating-10477835
END:VEVENT

END:VCALENDAR
