BEGIN:VCALENDAR
VERSION:2.0
PRODID:-//ChamberMaster//Event Calendar 2.0//EN
METHOD:PUBLISH
X-PUBLISHED-TTL:P3D
REFRESH-INTERVAL:P3D
CALSCALE:GREGORIAN
BEGIN:VEVENT
DTSTART:20190319T140000Z
DTEND:20190319T160000Z
X-MICROSOFT-CDO-ALLDAYEVENT:FALSE
SUMMARY:Charting the Course for Tourism in Dutchess: A Research Report and Strategic Initiative Presentation
DESCRIPTION:In 2018\, Dutchess Tourism conducted extensive research to help the organization better position Dutchess County in the crowded travel marketplace. Tourism-related businesses and other interested parties are invited to attend this informative presentation to gain valuable insights that will benefit their businesses and organizations. Dutchess Tourism President & CEO Mary Kay Vrba will present the findings of that research followed by Dutchess Tourism Board Chair Judy D'Alessandro\, who will unveil the organization's strategic plan for the future designed to support the tourism industry here in Dutchess County.
X-ALT-DESC;FMTTYPE=text/html:<span style="color: rgb(31\, 78\, 121)\;">In 2018\, Dutchess Tourism conducted extensive research to help the organization better position Dutchess County in the crowded travel marketplace. Tourism-related businesses and other interested parties are invited to attend this informative presentation to gain valuable insights that will benefit their businesses and organizations. Dutchess Tourism President &amp\; CEO Mary Kay Vrba will present the findings of that research followed by Dutchess Tourism Board Chair Judy D&rsquo\;Alessandro\, who will unveil the organization&rsquo\;s strategic plan for the future designed to support the tourism industry here in Dutchess County.</span>
LOCATION:LOCUST GROVE ESTATE 2683 South Road (Route 9)\, Poughkeepsie
UID:e.2770.10480502
SEQUENCE:3
DTSTAMP:20260423T072123Z
URL:http://dutchesscountyregional.smartcms.site/events/details/charting-the-course-for-tourism-in-dutchess-a-research-report-and-strategic-initiative-presentation-10480502
END:VEVENT

END:VCALENDAR
