BEGIN:VCALENDAR
VERSION:2.0
PRODID:-//ChamberMaster//Event Calendar 2.0//EN
METHOD:PUBLISH
X-PUBLISHED-TTL:P3D
REFRESH-INTERVAL:P3D
CALSCALE:GREGORIAN
BEGIN:VEVENT
DTSTART:20190615T130000Z
DTEND:20190615T190000Z
X-MICROSOFT-CDO-ALLDAYEVENT:FALSE
SUMMARY:Classics on the Hudson Car Show
DESCRIPTION:The 11th annual Classics on the Hudson car show will take place on the beautiful waterfront on the Marist College campus on June 15th from 9 am to 3 pm. Enter your classic (1994 or older) vehicle for only $10 and a chance to win a trophy\, top 25 and many other categories. One of the premier annual antique auto events in the Hudson Valley\, spectators are free to join. Come and enjoy the cars\, music\, food and raffles.
X-ALT-DESC;FMTTYPE=text/html:The 11th annual Classics on the Hudson car show will take place on the beautiful waterfront on the Marist College campus on June 15th from 9 am to 3 pm. Enter your classic (1994 or older) vehicle for only $10 and a chance to win a trophy\, top 25 and many other categories. One of the premier annual antique auto events in the Hudson Valley\, spectators are free to join. Come and enjoy the cars\, music\, food and raffles.
LOCATION:Marist College boat house
UID:e.2770.10480752
SEQUENCE:3
DTSTAMP:20260423T021207Z
URL:http://dutchesscountyregional.smartcms.site/events/details/classics-on-the-hudson-car-show-10480752
END:VEVENT

END:VCALENDAR
