BEGIN:VCALENDAR
VERSION:2.0
PRODID:-//ChamberMaster//Event Calendar 2.0//EN
METHOD:PUBLISH
X-PUBLISHED-TTL:P3D
REFRESH-INTERVAL:P3D
CALSCALE:GREGORIAN
BEGIN:VEVENT
DTSTART:20200216T183000Z
DTEND:20200216T210000Z
X-MICROSOFT-CDO-ALLDAYEVENT:FALSE
SUMMARY:Climate Action Film Festival
DESCRIPTION:A collection of short films from near and far featuring stories about those taking action against climate change. We will step away from the doom and gloom we know too well and move to a place of hope\, inspiration and ACTION. Featuring 10 Films. All proceeds to benefit New Yorkers for Clean Power and the Student Climate Coalition to support their climate advocacy efforts in 2020.
X-ALT-DESC;FMTTYPE=text/html:A collection of short films from near and far featuring stories about those taking action against climate change. We will step away from the doom and gloom we know too well and move to a place of hope\, inspiration and ACTION. Featuring 10 Films. All proceeds to benefit New Yorkers for Clean Power and the Student Climate Coalition to support their climate advocacy efforts in 2020.
LOCATION:Upstate Films Woodstock 132 Tinker Street Woodstock\, NY 12498
UID:e.2770.10482682
SEQUENCE:3
DTSTAMP:20260422T103556Z
URL:http://dutchesscountyregional.smartcms.site/events/details/climate-action-film-festival-02-16-2020-10482682
END:VEVENT

END:VCALENDAR
