BEGIN:VCALENDAR
VERSION:2.0
PRODID:-//ChamberMaster//Event Calendar 2.0//EN
METHOD:PUBLISH
X-PUBLISHED-TTL:P3D
REFRESH-INTERVAL:P3D
CALSCALE:GREGORIAN
BEGIN:VEVENT
DTSTART:20191019T150000Z
DTEND:20191019T180000Z
X-MICROSOFT-CDO-ALLDAYEVENT:FALSE
SUMMARY:Cold Fit Cryotherapy Open House
DESCRIPTION:Open House - All are welcome to learn more about the benefits of Cryotherapy\; a natural and holistic way to relieve pain\, optimize your body's innate ability to heal\, reduce anxiety\, have better quality of sleep and burn up to 800 calories all in 3 minutes! Light refreshments will be served.
X-ALT-DESC;FMTTYPE=text/html:Open House - All are welcome to learn more about the benefits of Cryotherapy\; a natural and holistic way to relieve pain\, optimize your body&rsquo\;s innate ability to heal\, reduce anxiety\, have better quality of sleep and burn up to 800 calories all in 3 minutes! Light refreshments will be served.
LOCATION:473 Main Street\, Ste. 4 Beacon\, NY
UID:e.2770.10482500
SEQUENCE:3
DTSTAMP:20260422T172604Z
URL:http://dutchesscountyregional.smartcms.site/events/details/cold-fit-cryotherapy-open-house-10482500
END:VEVENT

END:VCALENDAR
