BEGIN:VCALENDAR
VERSION:2.0
PRODID:-//ChamberMaster//Event Calendar 2.0//EN
METHOD:PUBLISH
X-PUBLISHED-TTL:P3D
REFRESH-INTERVAL:P3D
CALSCALE:GREGORIAN
BEGIN:VEVENT
DTSTART:20191109T170000Z
DTEND:20191109T210000Z
X-MICROSOFT-CDO-ALLDAYEVENT:FALSE
SUMMARY:Cold Fit Cryotherapy Open House
DESCRIPTION:Cold Fit Cryotherapy invites to their Open House! \nPresenting singer/songwriter Yahli Hilah!  Learn about the many benefits of cryotherapy and additional treatments we offer.  See live demos and out raffle to win free treatments!  Light refreshments will  be served.
X-ALT-DESC;FMTTYPE=text/html:<h2 style="font-style:italic\;">Cold Fit Cryotherapy invites to their Open House!&nbsp\;</h2>\nPresenting singer/songwriter&nbsp\;<span style="background-color:rgb(255\, 255\, 255)\; color:rgb(34\, 34\, 34)\; font-family:arial\,helvetica\,sans-serif\; font-size:small">Yahli Hilah!&nbsp\; Learn about the many benefits of cryotherapy and additional treatments we offer.&nbsp\; See live demos and out raffle to win free treatments!&nbsp\; Light refreshments will&nbsp\; be served.&nbsp\;</span>
LOCATION:473 Main Street\, Ste. 4 Beacon NY
UID:e.2770.10482542
SEQUENCE:3
DTSTAMP:20260422T155045Z
URL:http://dutchesscountyregional.smartcms.site/events/details/cold-fit-cryotherapy-open-house-11-09-2019-10482542
END:VEVENT

END:VCALENDAR
