BEGIN:VCALENDAR
VERSION:2.0
PRODID:-//ChamberMaster//Event Calendar 2.0//EN
METHOD:PUBLISH
X-PUBLISHED-TTL:P3D
REFRESH-INTERVAL:P3D
CALSCALE:GREGORIAN
BEGIN:VEVENT
DTSTART:20200610T160000Z
DTEND:20200610T220000Z
X-MICROSOFT-CDO-ALLDAYEVENT:FALSE
SUMMARY:Cold Fit Cryotherapy Reopens on Wednesday 6/10!
DESCRIPTION:We are thrilled to welcome back our dear clients as well as invite those in who have not yet experienced the benefits of Whole Body Cryotherapy! It's our first day back - hope to see you soon!
X-ALT-DESC;FMTTYPE=text/html:We are thrilled to welcome back our dear clients as well as invite those in who have not yet experienced the benefits of Whole Body Cryotherapy! It&#39\;s our first day back - hope to see you soon!
LOCATION:473 Main Street Suite 4 Beacon\, NY 2508
UID:e.2770.10483306
SEQUENCE:3
DTSTAMP:20260422T034827Z
URL:http://dutchesscountyregional.smartcms.site/events/details/cold-fit-cryotherapy-reopens-on-wednesday-6-10-10483306
END:VEVENT

END:VCALENDAR
