BEGIN:VCALENDAR
VERSION:2.0
PRODID:-//ChamberMaster//Event Calendar 2.0//EN
METHOD:PUBLISH
X-PUBLISHED-TTL:P3D
REFRESH-INTERVAL:P3D
CALSCALE:GREGORIAN
BEGIN:VEVENT
DTSTART:20180502T223000Z
DTEND:20180503T000000Z
X-MICROSOFT-CDO-ALLDAYEVENT:FALSE
SUMMARY:College Fair - Our Lady of Lourdes High School
DESCRIPTION:Representatives from over 55 colleges will be available to speak with students and parents regarding academic offerings\, admissions profiles\, student life\, athletics\, financial aid and more.\n\nFind the college that is the right fit for you!  Everyone Welcome!
X-ALT-DESC;FMTTYPE=text/html:<p><span style="color:windowtext"><span style="font-family:cambria\,serif"><span style="font-size:18.0pt">Representatives from over 55 colleges will be available to speak with students and parents regarding academic offerings\, admissions profiles\, student life\, athletics\, financial aid and more.</span></span></span><br />\n<span style="color:windowtext"><span style="font-family:cambria\,serif"><span style="font-size:20.0pt">Find the college that is the right fit for you!&nbsp\; Everyone Welcome!</span></span></span><br />\n&nbsp\;</p>\n
LOCATION:Our Lady of Lourdes High School Gymnasium 131 Boardman Road Poughkeepsie\, New York 12603
UID:e.2770.10477616
SEQUENCE:3
DTSTAMP:20260426T034209Z
URL:http://dutchesscountyregional.smartcms.site/events/details/college-fair-10477616
END:VEVENT

END:VCALENDAR
