BEGIN:VCALENDAR
VERSION:2.0
PRODID:-//ChamberMaster//Event Calendar 2.0//EN
METHOD:PUBLISH
X-PUBLISHED-TTL:P3D
REFRESH-INTERVAL:P3D
CALSCALE:GREGORIAN
BEGIN:VEVENT
DTSTART:20180602T130000Z
DTEND:20180602T163000Z
X-MICROSOFT-CDO-ALLDAYEVENT:FALSE
SUMMARY:Community Heroes Project Training
DESCRIPTION:The Community Heroes Project is a FREE volunteer leader training program for veterans\, service members and their families\, structured to guide these already talented individuals in further developing their leadership skills and utilizing those skills to address pressing issues in the community. *10 hours of training over 3 Saturdays- June 2\, 9\, 16
X-ALT-DESC;FMTTYPE=text/html:The Community Heroes Project is a FREE volunteer leader training program for veterans\, service members and their families\, structured to guide these already talented individuals in further developing their leadership skills and utilizing those skills to address pressing issues in the community. *10 hours of training over 3 Saturdays- June 2\, 9\, 16
LOCATION:Mount Saint Mary College- 330 Powell Ave\, Newburgh\, NY 12550
UID:e.2770.10477812
SEQUENCE:3
DTSTAMP:20260426T022134Z
URL:http://dutchesscountyregional.smartcms.site/events/details/community-heroes-project-training-10477812
END:VEVENT

END:VCALENDAR
