BEGIN:VCALENDAR
VERSION:2.0
PRODID:-//ChamberMaster//Event Calendar 2.0//EN
METHOD:PUBLISH
X-PUBLISHED-TTL:P3D
REFRESH-INTERVAL:P3D
CALSCALE:GREGORIAN
BEGIN:VEVENT
DTSTART:20180505T100000Z
DTEND:20180505T160000Z
X-MICROSOFT-CDO-ALLDAYEVENT:FALSE
SUMMARY:Crunch Fitness 5k
DESCRIPTION:Crunch Fitness is hosting its annual 5k run sponsoring Anderson Center for Autism. Shirts are guaranteed to the first 100 registered runners! Come out and support us and our friends at Anderson Center for Autism!
X-ALT-DESC;FMTTYPE=text/html:Crunch Fitness is hosting its annual 5k run sponsoring Anderson Center for Autism. Shirts are guaranteed to the first 100 registered runners! Come out and support us and our friends at Anderson Center for Autism!
LOCATION:2 Neptune Road Poughkeepsie\, NY 12601 The race will begin and end in the Crunch Fitness parking lot and will proceed through the streets of the Crown Heights neighborhood.
UID:e.2770.10476931
SEQUENCE:3
DTSTAMP:20260426T034425Z
URL:http://dutchesscountyregional.smartcms.site/events/details/crunch-fitness-5k-10476931
END:VEVENT

END:VCALENDAR
