BEGIN:VCALENDAR
VERSION:2.0
PRODID:-//ChamberMaster//Event Calendar 2.0//EN
METHOD:PUBLISH
X-PUBLISHED-TTL:P3D
REFRESH-INTERVAL:P3D
CALSCALE:GREGORIAN
BEGIN:VEVENT
DTSTART:20180524T220000Z
DTEND:20180525T010000Z
X-MICROSOFT-CDO-ALLDAYEVENT:FALSE
SUMMARY:Cutera XEO Laser Event
DESCRIPTION:Learn about our Cutera XEO Laser:\n\nLaser Hair Removal\n\nLimelight IPL \n\nLaser Genesis \n\nLaser Spider Vein Therapy\n\n\n\nWe will have Live Model Demonstrations\n\nSpeical Pricing on Laser Treatments\n\nFree Raffles \n\nHors d'oeuvre and Drinks\n\nPlease RSVP to 845-454-6392 as space is limited
X-ALT-DESC;FMTTYPE=text/html:Learn about our Cutera XEO Laser:<br />\nLaser Hair Removal<br />\nLimelight IPL&nbsp\;<br />\nLaser Genesis&nbsp\;<br />\nLaser Spider Vein Therapy<br />\n<br />\nWe will have Live Model Demonstrations<br />\nSpeical Pricing on Laser Treatments<br />\nFree Raffles&nbsp\;<br />\nHors d&#39\;oeuvre and Drinks<br />\nPlease RSVP to 845-454-6392 as space is limited
LOCATION:New Beginnings Plastic & Reconstructive Surgery 4 Liberty Street\, Third Floor Poughkeepsie NY 12601
UID:e.2770.10477646
SEQUENCE:3
DTSTAMP:20260426T034300Z
URL:http://dutchesscountyregional.smartcms.site/events/details/cutera-xeo-laser-event-10477646
END:VEVENT

END:VCALENDAR
