BEGIN:VCALENDAR
VERSION:2.0
PRODID:-//ChamberMaster//Event Calendar 2.0//EN
METHOD:PUBLISH
X-PUBLISHED-TTL:P3D
REFRESH-INTERVAL:P3D
CALSCALE:GREGORIAN
BEGIN:VEVENT
DTSTART:20200410T150000Z
DTEND:20200410T163000Z
X-MICROSOFT-CDO-ALLDAYEVENT:FALSE
SUMMARY:Cyber Security Awareness During COVID-19 Webinar
DESCRIPTION:The Dutchess County Regional Chamber of Commerce will host a webinar which will focus on cyber security and ensuring your data is secured as you work remotely.\n\nThis webinar will provide guidance related to working remotely and securing data and communications. Panelists will be Glenn Marchi\, Dutchess County Commissioner\, OCIS\; Richard Jacobs\, FBI Assistant Special Agent in Charge\; and Michael Melore\, IBM Cybersecurity Advisor\; and Eric Gorman\, co-founder\, Executive Vice President and COO of Integrated Enterprise Solutions/IES.\n\n Questions may be sent in advance to richk@dcrcoc.org\, and will be accepted near the end of the presentation. This webinar will be recorded and archived to watch on demand.\n\n \n\n Sponsored by: Integrated Enterprise Solutions\, Inc.\n\nRegister Here: https://zoom.us/webinar/register/WN_Wt3oFrEjRRCTi_hyPBNdNg
X-ALT-DESC;FMTTYPE=text/html:<span style="font-size:16px\;"><span style="font-family:tahoma\;">The Dutchess County Regional Chamber of Commerce will host a webinar which will focus on cyber security and ensuring your data is secured as you work remotely.<br />\nThis webinar will provide guidance related to working remotely and securing data and communications. Panelists will be Glenn Marchi\, Dutchess County Commissioner\, OCIS\; Richard Jacobs\, FBI Assistant Special Agent in Charge\; and Michael Melore\, IBM Cybersecurity Advisor\; and Eric Gorman\, co-founder\, Executive Vice President and COO of Integrated Enterprise Solutions/IES.<br />\n&nbsp\;Questions may be sent in advance to <a href="mailto:richk@dcrcoc.org">richk@dcrcoc.org</a>\, and will be accepted near the end of the presentation. This webinar will be recorded and archived to watch on demand.<br />\n&nbsp\;<br />\n<strong>&#65279\;Sponsored by</strong>: <strong>Integrated Enterprise Solutions\, Inc.</strong><br />\nRegister Here:&nbsp\;<a href="https://zoom.us/webinar/register/WN_Wt3oFrEjRRCTi_hyPBNdNg" target="_blank">https://zoom.us/webinar/register/WN_Wt3oFrEjRRCTi_hyPBNdNg</a></span></span><br />\n<br />\n&nbsp\;
LOCATION:
UID:e.2770.10483249
SEQUENCE:3
DTSTAMP:20260422T072126Z
URL:http://dutchesscountyregional.smartcms.site/events/details/cyber-security-awareness-during-covid-19-webinar-10483249
END:VEVENT

END:VCALENDAR
