BEGIN:VCALENDAR
VERSION:2.0
PRODID:-//ChamberMaster//Event Calendar 2.0//EN
METHOD:PUBLISH
X-PUBLISHED-TTL:P3D
REFRESH-INTERVAL:P3D
CALSCALE:GREGORIAN
BEGIN:VEVENT
DTSTART:20180610T140000Z
DTEND:20180610T170000Z
X-MICROSOFT-CDO-ALLDAYEVENT:FALSE
SUMMARY:Cystic Fibrosis Poughkeepsie Great Strides Walk
DESCRIPTION:Great Strides is the CF Foundation's largest annual fundraising event with over 400 walks across the country. The Poughkeepsie Great Strides Walk will take place at the Bowdoin Park on Sunday\, June 10th with approximately 1\,000 participants. It is a local community event that provides a fantastic opportunity for family\, friends\, students\, and colleagues to come together and make a difference! Registration opens at 10am with food and festivities and at 11am the walk begins. It is a picturesque 5k walk and for anyone who wants to make it more of an endurance event\, of course they have the option to run the course. The Cystic Fibrosis Foundation is leading the way in innovative research and drug development\, promoting high-quality\, individualized care\, and helping those with CF lead full productive lives. Join us as we make strides together to find a cure for CF! Visit the Great Strides website www.greatstrides.cff.org for more information.
X-ALT-DESC;FMTTYPE=text/html:Great Strides is the CF Foundation&rsquo\;s largest annual fundraising event with over 400 walks across the country. The Poughkeepsie Great Strides Walk will take place at the Bowdoin Park on Sunday\, June 10th with approximately 1\,000 participants. It is a local community event that provides a fantastic opportunity for family\, friends\, students\, and colleagues to come together and make a difference! Registration opens at 10am with food and festivities and at 11am the walk begins. It is a picturesque 5k walk and for anyone who wants to make it more of an endurance event\, of course they have the option to run the course. The Cystic Fibrosis Foundation is leading the way in innovative research and drug development\, promoting high-quality\, individualized care\, and helping those with CF lead full productive lives. Join us as we make strides together to find a cure for CF! Visit the Great Strides website www.greatstrides.cff.org for more information.
LOCATION:Bowdoin Park 85 Sheafe Road Wappingers Falls\, NY 12590
UID:e.2770.10477823
SEQUENCE:3
DTSTAMP:20260426T022411Z
URL:http://dutchesscountyregional.smartcms.site/events/details/cystic-fibrosis-poughkeepsie-great-strides-walk-10477823
END:VEVENT

END:VCALENDAR
