BEGIN:VCALENDAR
VERSION:2.0
PRODID:-//ChamberMaster//Event Calendar 2.0//EN
METHOD:PUBLISH
X-PUBLISHED-TTL:P3D
REFRESH-INTERVAL:P3D
CALSCALE:GREGORIAN
BEGIN:VEVENT
DTSTART:20190522T160000Z
DTEND:20190522T173000Z
X-MICROSOFT-CDO-ALLDAYEVENT:FALSE
SUMMARY:Dairy-Free Cooking Class
DESCRIPTION:Dairy is one of the most common food allergies in America. Learn some simple swaps and tricks for cooking dairy free dishes. ($15)
X-ALT-DESC;FMTTYPE=text/html:Dairy is one of the most common food allergies in America. Learn some simple swaps and tricks for cooking dairy free dishes. ($15)
LOCATION:NewYork-Presbyterian Hudson Valley Hospital Chef Peter X. Kelly Teaching Kitchen 1992 Crompond Road Cortlandt Manor\, NY
UID:e.2770.10480699
SEQUENCE:3
DTSTAMP:20260423T034856Z
URL:http://dutchesscountyregional.smartcms.site/events/details/dairy-free-cooking-class-10480699
END:VEVENT

END:VCALENDAR
