BEGIN:VCALENDAR
VERSION:2.0
PRODID:-//ChamberMaster//Event Calendar 2.0//EN
METHOD:PUBLISH
X-PUBLISHED-TTL:P3D
REFRESH-INTERVAL:P3D
CALSCALE:GREGORIAN
BEGIN:VEVENT
DTSTART:20181207T150000Z
DTEND:20181207T170000Z
X-MICROSOFT-CDO-ALLDAYEVENT:FALSE
SUMMARY:Day of Sharing
DESCRIPTION:It's a special pre-renovation of Day of Sharing on Friday\, December 7th! Join us for a special pre-renovation\, extended-hour edition of Day of Sharing on Friday\, December 7th from 10am-12pm and 2pm-4pm at United Way's Poughkeepsie office located at 75 Market Street. In addition\, Fidelis Care\, representing the 2018 Hudson Valley Coat Drive: Coating the Community With Love* will distribute winter coats. If you represent a nonprofit\, faith-based organization or school\, you are invited to join us for this quarterly "shopping" day\, the last one before we begin needed renovations of the basement. Right now\, United Way's basement is filled with items that your clients need and many times can't afford\, including bedding and household items\, women's and men's clothes\, even make-up! In addition\, The Louis Greenspan Children's Corner offers a wide selection of infant and children's supplies\, including clothes\, socks\, shoes\, diapers\, wipes\, lotions\, toys and more. United Way's Library has a selection of gently used and new books for children to adults. Please join us to "shop" for those who need these items the most. We request that you take just what you think you will use. Everything is first-come\, first-served. Waiting in United Way's parking lot until the doors open is a great time to chat and catch up with your peers. If you have any questions please contact Rebecca Lull at 845-471-1900 ext 3113 or email rlull@uwdor.org.
X-ALT-DESC;FMTTYPE=text/html:It&#39\;s a special pre-renovation of Day of Sharing on Friday\, December 7th! Join us for a special pre-renovation\, extended-hour edition of Day of Sharing on Friday\, December 7th from 10am-12pm and 2pm-4pm at United Way&#39\;s Poughkeepsie office located at 75 Market Street. In addition\, Fidelis Care\, representing the 2018 Hudson Valley Coat Drive: Coating the Community With Love* will distribute winter coats. If you represent a nonprofit\, faith-based organization or school\, you are invited to join us for this quarterly &quot\;shopping&quot\; day\, the last one before we begin needed renovations of the basement. Right now\, United Way&#39\;s basement is filled with items that your clients need and many times can&#39\;t afford\, including bedding and household items\, women&#39\;s and men&#39\;s clothes\, even make-up! In addition\, The Louis Greenspan Children&#39\;s Corner offers a wide selection of infant and children&#39\;s supplies\, including clothes\, socks\, shoes\, diapers\, wipes\, lotions\, toys and more. United Way&#39\;s Library has a selection of gently used and new books for children to adults. Please join us to &quot\;shop&quot\; for those who need these items the most. We request that you take just what you think you will use. Everything is first-come\, first-served. Waiting in United Way&#39\;s parking lot until the doors open is a great time to chat and catch up with your peers. If you have any questions please contact Rebecca Lull at 845-471-1900 ext 3113 or email rlull@uwdor.org.
LOCATION:
UID:e.2770.10479939
SEQUENCE:3
DTSTAMP:20260425T142608Z
URL:http://dutchesscountyregional.smartcms.site/events/details/day-of-sharing-12-07-2018-10479939
END:VEVENT

END:VCALENDAR
