BEGIN:VCALENDAR
VERSION:2.0
PRODID:-//ChamberMaster//Event Calendar 2.0//EN
METHOD:PUBLISH
X-PUBLISHED-TTL:P3D
REFRESH-INTERVAL:P3D
CALSCALE:GREGORIAN
BEGIN:VEVENT
DTSTART:20181219T123000Z
DTEND:20181219T140000Z
X-MICROSOFT-CDO-ALLDAYEVENT:FALSE
SUMMARY:December Contact Breakfast
DESCRIPTION:***Please note if you try to register after 5:00 PM on Tuesday\, December 18th you will NOT be on our registration list. Please report to the UNPAID Table when you arrive.\n\n\n\nThe annual tradition returns with performances by the Arlington High School Holiday Brass Choir\, Franklin D. Roosevelt Chamber String Ensemble\, Poughkeepsie High School Chorus\, and the Roy C. Ketcham Concert Choir. Come share in the joy of the season and toast to a safe and happy holiday with chocolate milk\, thanks to Hudson Valley Fresh.\n\n\n\nSponsored by: Poughkeepsie Journal\n\n\n\nSpecial thanks to The Poughkeepsie Grand Hotel for sponsoring the student's breakfast. \n\n\n\nAs you all know\, there are many people in need of our assistance. The Chamber's Ambassador committee has partnered with our Workforce Development Center to collect canned and dry goods at our Contact Breakfast. Your donations are greatly appreciated.
X-ALT-DESC;FMTTYPE=text/html:<p><span style="background-color: transparent\; color: rgb(255\, 0\, 0)\; font-family: sans-serif\,Arial\,Verdana\,&amp\;quot\;Trebuchet MS&amp\;quot\;\; font-size: 18px\; font-style: normal\; font-variant: normal\; font-weight: 400\; letter-spacing: normal\; orphans: 2\; text-align: left\; text-decoration: none\; text-indent: 0px\; text-transform: none\; -webkit-text-stroke-width: 0px\; white-space: normal\; word-spacing: 0px\;"><span style="font-family: times new roman\;"><strong>***<span style="background-attachment: scroll\; background-clip: border-box\; background-color: rgb(255\, 255\, 255)\; background-image: none\; background-origin: padding-box\; background-position-x: 0%\; background-position-y: 0%\; background-repeat: repeat\; background-size: auto\;">Please note if&nbsp\;you try to register after 5:00 PM on Tuesday\, December 18th&nbsp\;you will NOT be on our registration list. Please report to the UNPAID Table when you arrive.</span></strong></span></span><br />\n<br />\n<span style="color:#333333\;"><span style="font-size:medium\;"><span style="font-family:times new roman\;">The annual tradition returns with performances by the Arlington High School Holiday Brass Choir\, Franklin D. Roosevelt Chamber String Ensemble\, Poughkeepsie High School Chorus\, and the Roy C. Ketcham Concert Choir. Come share in the joy of the season and toast to a safe and happy holiday with&nbsp\;chocolate milk\, thanks to Hudson Valley Fresh.</span></span></span><br />\n<br />\n<span style="font-size:medium\;"><span style="font-family:times new roman\;"><span style="color:#333333\;">Sponsored by: </span><strong><span style="color:blue\;"><a href="http://poughkeepsiejournalmedia.com"><span style="color:blue\;">Poughkeepsie Journal</span></a></span></strong></span></span><br />\n<br style="ms&quot\;cursor:\n" />\n<strong><span style="color:#333333\;"><span style="background:white\;">Special thanks to The Poughkeepsie Grand Hotel for sponsoring the student&#39\;s breakfast.&nbsp\;</span></span><br style="ms&quot\;cursor:text\;" />\n<br style="ms&quot\;cursor:text\;" />\nAs you all know\, there are many people in need of our assistance. The Chamber&#39\;s Ambassador committee has partnered with our Workforce Development Center to collect canned and dry goods at our Contact Breakfast. Your donations are greatly appreciated.</strong></p>\n
LOCATION:The Poughkeepsie Grand Hotel & Conference Center 40 Civic Center Plaza Poughkeepsie\, NY 12601
UID:e.2770.10476526
SEQUENCE:3
DTSTAMP:20260425T142441Z
URL:http://dutchesscountyregional.smartcms.site/events/details/december-contact-breakfast-10476526
END:VEVENT

END:VCALENDAR
