BEGIN:VCALENDAR
VERSION:2.0
PRODID:-//ChamberMaster//Event Calendar 2.0//EN
METHOD:PUBLISH
X-PUBLISHED-TTL:P3D
REFRESH-INTERVAL:P3D
CALSCALE:GREGORIAN
BEGIN:VEVENT
DTSTART:20191218T123000Z
DTEND:20191218T140000Z
X-MICROSOFT-CDO-ALLDAYEVENT:FALSE
SUMMARY:December Contact Breakfast
DESCRIPTION:***Please note if you try to register after 4:00 PM on Tuesday\, December 17 you will NOT be on our registration list. Please report to the UNPAID Table when you arrive. \n\n\n\nAnnual Holiday Breakfast featuring musicians from Arlington Central School District\, Hyde Park Central School District\, Poughkeepsie City School District\, and Wappingers Central School District.\n\n\n\nAs you all know\, there are many people in need of our assistance. The Chamber's Ambassador committee has partnered with our Workforce Development Center to collect canned and dry goods at our Contact Breakfast. Your donations are greatly appreciated.\n\n\n\nSponsored by: Poughkeepsie Journal Media
X-ALT-DESC;FMTTYPE=text/html:<p><span style="color: rgb(255\, 0\, 0)\; font-family: tahoma\; font-size: 16px\; font-weight: 700\;">***Please note if&nbsp\;you try to register after 4:00 PM on Tuesday\, December 17&nbsp\;you will NOT be on our registration list. Please report to the UNPAID Table when you arrive.&nbsp\;</span><br />\n<br />\n<span style="font-size:16px\;"><span style="font-family:tahoma\;"><strong><span style="color:#000000\;">Annual Holiday Breakfast featuring musicians from</span><span style="color: rgb(255\, 0\, 0)\;"> Arlington Central School District\, Hyde Park Central School District\, Poughkeepsie City School District\, and Wappingers Central School District.</span></strong><br />\n<br />\n<strong style="color: rgb(51\, 51\, 51)\; font-family: sans-serif\, Arial\, Verdana\, &quot\;Trebuchet MS&quot\;\; font-size: 13px\; background-color: rgb(255\, 255\, 255)\;">As you all know\, there are many people in need of our assistance. The Chamber&#39\;s Ambassador committee has partnered with our Workforce Development Center to collect canned and dry goods at our Contact Breakfast. Your donations are greatly appreciated.</strong><br />\n<br />\n<strong style="color: rgb(51\, 51\, 51)\; font-family: sans-serif\, Arial\, Verdana\, &quot\;Trebuchet MS&quot\;\; font-size: 13px\; background-color: rgb(255\, 255\, 255)\;">Sponsored by: <a href="http://www.poughkeepsiejournalmedia.com" target="_blank">Poughkeepsie Journal Media</a></strong></span></span></p>\n
LOCATION:The Poughkeepsie Grand Hotel & Conference Center 40 Civic Center Plaza Poughkeepsie\, NY 12601
UID:e.2770.10479906
SEQUENCE:3
DTSTAMP:20260422T135653Z
URL:http://dutchesscountyregional.smartcms.site/events/details/december-contact-breakfast-10479906
END:VEVENT

END:VCALENDAR
