BEGIN:VCALENDAR
VERSION:2.0
PRODID:-//ChamberMaster//Event Calendar 2.0//EN
METHOD:PUBLISH
X-PUBLISHED-TTL:P3D
REFRESH-INTERVAL:P3D
CALSCALE:GREGORIAN
BEGIN:VEVENT
DTSTART:20200214T233000Z
DTEND:20200215T050000Z
X-MICROSOFT-CDO-ALLDAYEVENT:FALSE
SUMMARY:Dinner\,Magic\,Love\,DJ
DESCRIPTION:Comfort Suites\, hosting Valentine's Day Event. Featuring the Illusionist Ryan Dutcher Dinner Buffet/Magic/ Love/ DJ & Overnight Packages. Cash Bar $100 deposit is required at the time of booking Please book as a group to guarantee the same table seating.
X-ALT-DESC;FMTTYPE=text/html:Comfort Suites\, hosting Valentine&#39\;s Day Event. Featuring the Illusionist Ryan Dutcher Dinner Buffet/Magic/ Love/ DJ &amp\; Overnight Packages. Cash Bar $100 deposit is required at the time of booking Please book as a group to guarantee the same table seating.
LOCATION:Comfort Suites 835 Route 52 Fishkill\, NY 12524
UID:e.2770.10482624
SEQUENCE:3
DTSTAMP:20260422T103150Z
URL:http://dutchesscountyregional.smartcms.site/events/details/dinner-magic-love-dj-10482624
END:VEVENT

END:VCALENDAR
