BEGIN:VCALENDAR
VERSION:2.0
PRODID:-//ChamberMaster//Event Calendar 2.0//EN
METHOD:PUBLISH
X-PUBLISHED-TTL:P3D
REFRESH-INTERVAL:P3D
CALSCALE:GREGORIAN
BEGIN:VEVENT
DTSTART:20180624T110000Z
DTEND:20180624T220000Z
X-MICROSOFT-CDO-ALLDAYEVENT:FALSE
SUMMARY:Discover Hudson Valley Bike Ride
DESCRIPTION:Centered around the Walkway Over the Hudson\, the world's longest footbridge\, this ride is all about discovery. For some\, that means taking it easy on one of the shorter routes and simply enjoying the gorgeous scenery of Ulster and Dutchess counties. For others\, it means discovering what you're capable of with more than 5\,900 feet of climbing\, the 100-mile route is a century worth bragging about.\n\nRegistration includes a BBQ lunch\, a complimentary beer from New Belgium Brewing\, free ice cream\, a finisher medal and a T-shirt and for the first time this year\, riders can register for the event and become a Bike New York member at the same time! You get $5 off membership\, a raffle entry for an all-expenses-paid bike tour for two to Croatia\, early access to 2019 TD Five Boro Bike Tour registration\, a 15% discount on Bike New York's upcoming Twin Lights Ride (9/30)\, a member T-shirt\, bike shop and partner discounts\, invitations to members-only social rides and activities\, and much more!\n\n\n\nChoose between 15\, 33\, 55\, 75\, or 100 miles. Visit https://www.bike.nyc/events/discover-hudson-valley-ride/ to register or for more information.\n\n\n\nWe will also have FREE children's learn-to-ride classes available for the community. See wesite for time and sign up.\n\n\n\nVolunteers needed! We would love assistance at our morning registration\, Festival\, on the course at tricky intersections\, as a riding marshal helping broken down cyclists\, and "rest ares" - areas along the route that provide refreshment to participants.
X-ALT-DESC;FMTTYPE=text/html:<p>Centered around the Walkway Over the Hudson\, the world&rsquo\;s longest footbridge\, this ride is all about discovery. For some\, that means taking it easy on one of the shorter routes and simply enjoying the gorgeous scenery of Ulster and Dutchess counties. For others\, it means discovering what you&rsquo\;re capable of&mdash\;with more than 5\,900 feet of climbing\, the 100-mile route is a century worth bragging about.</p>\n\n<p><strong>Registration includes a BBQ lunch\, a complimentary beer from New Belgium Brewing\, free ice cream\, a finisher medal and a T-shirt</strong>&mdash\;and for the first time this year\, riders can register for the event and become a Bike New York member at the same time! You get $5 off membership\, a raffle entry for an all-expenses-paid bike tour for two to Croatia\,&nbsp\;early access to 2019 TD Five Boro Bike Tour registration\, a 15% discount on Bike New York&rsquo\;s upcoming Twin Lights Ride (9/30)\, a member T-shirt\, bike shop and partner discounts\, invitations to members-only social rides and activities\, and much more!<br />\n<br />\nChoose between 15\, 33\, 55\, 75\, or 100 miles. Visit&nbsp\;https://www.bike.nyc/events/discover-hudson-valley-ride/ to register or for more information.<br />\n<br />\nWe will also have FREE children&#39\;s learn-to-ride classes available for the community. See wesite for time and sign up.<br />\n<br />\nVolunteers needed! We would love assistance at our morning registration\, Festival\, on the course at tricky intersections\, as a riding marshal helping broken down cyclists\, and &quot\;rest ares&quot\; - areas along the route that provide refreshment to participants.&nbsp\;&nbsp\;</p>\n
LOCATION:Begins and ends in Poughkeepsie at Waryas Park. Extends over a hundred miles of Dutchess and Ulster County.
UID:e.2770.10477730
SEQUENCE:3
DTSTAMP:20260426T034351Z
URL:http://dutchesscountyregional.smartcms.site/events/details/discover-hudson-valley-bike-ride-10477730
END:VEVENT

END:VCALENDAR
