BEGIN:VCALENDAR
VERSION:2.0
PRODID:-//ChamberMaster//Event Calendar 2.0//EN
METHOD:PUBLISH
X-PUBLISHED-TTL:P3D
REFRESH-INTERVAL:P3D
CALSCALE:GREGORIAN
BEGIN:VEVENT
DTSTART:20201112T130000Z
DTEND:20201112T143000Z
X-MICROSOFT-CDO-ALLDAYEVENT:FALSE
SUMMARY:Dutchess County Budget Presentation Featuring County Executive Marcus Molinaro
DESCRIPTION:This virtual event is open to the public and will be available to watch on Zoom.\n\n*Pre-registration is required\, as space is limited. \n\n\n\nTo register\, click here\n\n\n\nSponsored by: Central Hudson Gas & Electric Corp. and KeyBank
X-ALT-DESC;FMTTYPE=text/html:<span style="color:#000000\;"><span style="font-family: &quot\;times new roman&quot\;\; font-size: 18px\; background-image: initial\; background-position: initial\; background-size: initial\; background-repeat: initial\; background-attachment: initial\; background-origin: initial\; background-clip: initial\;">This virtual event is open to the public and will be available to watch on Zoom.</span><br style="font-family: &quot\;times new roman&quot\;\; font-size: 18px\;" />\n<span style="font-family: &quot\;times new roman&quot\;\; font-size: 18px\;"><span style="background-image: initial\; background-position: initial\; background-size: initial\; background-repeat: initial\; background-attachment: initial\; background-origin: initial\; background-clip: initial\;">*Pre-registration is required\, as space is limited.&nbsp\;</span></span></span><br />\n<br />\n<strong style="font-size: 18px\;"><span style="font-family: &quot\;times new roman&quot\;\;"><span style="color: rgb(0\, 0\, 0)\;">To register\, click&nbsp\;</span><a href="https://dcrcoc-org.zoom.us/webinar/register/WN_1s8PValbRx-AKh26fIzvuQ" target="_blank"><span style="color: rgb(0\, 0\, 255)\;">here</span></a></span></strong><br />\n<br />\n<span style="font-size:18px\;"><span style="font-family:times new roman\;"><span style="color:#000000\;"><strong>Sponsored by:</strong>&nbsp\;</span><strong><a href="https://www.cenhud.com/" target="_blank"><span style="color:#0000FF\;">Central Hudson Gas &amp\; Electric Corp.</span></a></strong><span style="color:#000000\;"> and&nbsp\;</span><strong><a href="https://www.key.com/personal/index.jsp" target="_blank"><span style="color:#0000FF\;">KeyBank</span></a><span style="color:#0000FF\;">&nbsp\;</span></strong></span></span>
LOCATION:
UID:e.2770.10484499
SEQUENCE:3
DTSTAMP:20260421T193210Z
URL:http://dutchesscountyregional.smartcms.site/events/details/dutchess-county-budget-presentation-featuring-county-executive-marcus-molinaro-10484499
END:VEVENT

END:VCALENDAR
