BEGIN:VCALENDAR
VERSION:2.0
PRODID:-//ChamberMaster//Event Calendar 2.0//EN
METHOD:PUBLISH
X-PUBLISHED-TTL:P3D
REFRESH-INTERVAL:P3D
CALSCALE:GREGORIAN
BEGIN:VEVENT
DTSTART:20201206T230000Z
DTEND:20201207T020000Z
X-MICROSOFT-CDO-ALLDAYEVENT:FALSE
SUMMARY:Dutchess County Parks Holiday Illumination Weekend Go Light Your World
DESCRIPTION:Holiday Illumination Weekend at Wilcox Park Calling all municipalities\, nonprofits\, local businesses\, fire departments\, clubs and schools: Register NOW to create a themed holiday light display for a drive through light show at Wilcox Park in Milan on Saturday\, December 5 and Sunday\, December 6. This event is a free and fun alternative to the many holiday parades that have had to be canceled due to ongoing COVID-19 restrictions. Register by November 30th and help us give Dutchess County residents a festive and safe holiday weekend! *Event will be canceled if severe weather is forecasted.
X-ALT-DESC;FMTTYPE=text/html:Holiday Illumination Weekend at Wilcox Park Calling all municipalities\, nonprofits\, local businesses\, fire departments\, clubs and schools: Register NOW to create a themed holiday light display for a drive through light show at Wilcox Park in Milan on Saturday\, December 5 and Sunday\, December 6. This event is a free and fun alternative to the many holiday parades that have had to be canceled due to ongoing COVID-19 restrictions. Register by November 30th and help us give Dutchess County residents a festive and safe holiday weekend! *Event will be canceled if severe weather is forecasted.
LOCATION:Wilcox Memorial Park Rte.199 Milan NY
UID:e.2770.10484552
SEQUENCE:3
DTSTAMP:20260421T180230Z
URL:http://dutchesscountyregional.smartcms.site/events/details/dutchess-county-parks-holiday-illumination-weekend-go-light-your-world-12-06-2020-10484552
END:VEVENT

END:VCALENDAR
