BEGIN:VCALENDAR
VERSION:2.0
PRODID:-//ChamberMaster//Event Calendar 2.0//EN
METHOD:PUBLISH
X-PUBLISHED-TTL:P3D
REFRESH-INTERVAL:P3D
CALSCALE:GREGORIAN
BEGIN:VEVENT
DTSTART:20201205T150000Z
DTEND:20201206T220000Z
X-MICROSOFT-CDO-ALLDAYEVENT:FALSE
SUMMARY:Dutchess Handmade
DESCRIPTION:Dutchess Handmade Pop-Up Shop:\n\n\n\nLocally made glass\, jewelry\, greeting cards\, textiles\, ceramics\, wood\, products\, prints\, paintings\, home\, decorating items and more!\n\n\n\nFind the perfect item for holiday shopping and collecting from local artists and artisans.
X-ALT-DESC;FMTTYPE=text/html:Dutchess Handmade Pop-Up Shop:<br />\n<br />\nLocally made glass\, jewelry\, greeting cards\, textiles\, ceramics\, wood\, products\, prints\, paintings\, home\, decorating items and more!<br />\n<br />\nFind the perfect item for holiday shopping and collecting from local artists and artisans.
LOCATION:The Trolley Barn 489 Main Street Poughkeepsie\, NY
UID:e.2770.10484789
SEQUENCE:3
DTSTAMP:20260421T175933Z
URL:http://dutchesscountyregional.smartcms.site/events/details/dutchess-handmade-10484789
END:VEVENT

END:VCALENDAR
