BEGIN:VCALENDAR
VERSION:2.0
PRODID:-//ChamberMaster//Event Calendar 2.0//EN
METHOD:PUBLISH
X-PUBLISHED-TTL:P3D
REFRESH-INTERVAL:P3D
CALSCALE:GREGORIAN
BEGIN:VEVENT
DTSTART;VALUE=DATE:20311001
DTEND;VALUE=DATE:20311002
TRANSP:TRANSPARENT
X-MICROSOFT-CDO-ALLDAYEVENT:TRUE
SUMMARY:Dutchess Outreach - Susan DeKeukelaere Memorial Coat Drive
DESCRIPTION:Annually\, Guardian Self Storage sponsors Dutchess Outreach Susan DeKeukelaere Memorial Coat Drive.  New and gently used coats can be donated to any Guardian Self Storage\, Red Cap Cleaners\, TEG Federal Credit Union\, Rhinebeck Bank and Raymour & Flanigan (Showroom and Outlet).\n\n\n\nRepresentatives from Dutchess Outreach will be at the September and October Contact Breakfasts and will accept coat donations.
X-ALT-DESC;FMTTYPE=text/html:Annually\, Guardian Self Storage sponsors Dutchess Outreach Susan DeKeukelaere Memorial Coat Drive.&nbsp\; New and gently used coats can be donated to any Guardian Self Storage\, Red Cap Cleaners\, TEG Federal Credit Union\, Rhinebeck Bank and Raymour &amp\; Flanigan (Showroom and Outlet).<br />\n<br />\nRepresentatives from Dutchess Outreach will be at the September and October Contact Breakfasts and will accept coat donations.
LOCATION:
UID:e.2770.10496018
SEQUENCE:3
DTSTAMP:20260420T021843Z
URL:http://dutchesscountyregional.smartcms.site/events/details/dutchess-outreach-susan-dekeukelaere-memorial-coat-drive-10-01-2031-10496018
END:VEVENT

END:VCALENDAR
