BEGIN:VCALENDAR
VERSION:2.0
PRODID:-//ChamberMaster//Event Calendar 2.0//EN
METHOD:PUBLISH
X-PUBLISHED-TTL:P3D
REFRESH-INTERVAL:P3D
CALSCALE:GREGORIAN
BEGIN:VEVENT
DTSTART:20190327T173000Z
DTEND:20190327T190000Z
X-MICROSOFT-CDO-ALLDAYEVENT:FALSE
SUMMARY:Dutchess Tourism's 2019 Lunch & Learn Seminar - Using Google’s Free “My Business” Tools
DESCRIPTION:Dutchess Tourism\, Inc. hosts a Lunch & Learn Seminar for tourism-related businesses but anyone is welcome to attend. Participants are encouraged to bring their lunches to eat while they listen to the presentation. There will also be time for networking with other participants and the speaker(s). Kacie Vassari\, DTI's communications specialist\, will kick off each seminar with a short social media tips and tricks segment.\n\n\n\nGuest Presenter: Melaine Rottkamp\, Vice President\, Dutchess Tourism\, Inc. \n\nGoogle dominates the market when it comes to online searches and maps. Learn how to "claim your business" and improve the completeness\, quality\, and accuracy of your business content across Google Maps\, Destination & Travel Guide pages\, and the Google Trips app. Help potential customers find you and turn them into actual visitors with engaging and enticing content including videos\, photos\, events and special offers. Engage with searchers by replying to reviews\, and answering questions posted to your Knowledge Profile. This session will offer step-by-step instructions to make sure you're up to speed on this major platform.
X-ALT-DESC;FMTTYPE=text/html:Dutchess Tourism\, Inc. hosts a Lunch &amp\; Learn Seminar for tourism-related businesses but anyone is welcome to attend. Participants are encouraged to bring their lunches to eat while they listen to the presentation. There will also be time for networking with other participants and the speaker(s). Kacie Vassari\, DTI&rsquo\;s communications specialist\, will kick off each seminar with a short social media tips and tricks segment.<br />\n<br />\n<em>Guest Presenter: Melaine Rottkamp\, Vice President\, Dutchess Tourism\, Inc.&nbsp\;</em><br />\nGoogle dominates the market when it comes to online searches and maps. Learn how to &ldquo\;claim your business&rdquo\; and improve the completeness\, quality\, and accuracy of your business content across Google Maps\, Destination &amp\; Travel Guide pages\, and the Google Trips app. Help potential customers find you and turn them into actual visitors with engaging and enticing content including videos\, photos\, events and special offers. Engage with searchers by replying to reviews\, and answering questions posted to your Knowledge Profile. This session will offer step-by-step instructions to make sure you&rsquo\;re up to speed on this major platform.
LOCATION:COUSINS ALE WORKS 1582 Route 9 (rear of building)\, Wappingers Falls 12590 * (845) 293-2739
UID:e.2770.10480500
SEQUENCE:3
DTSTAMP:20260423T072131Z
URL:http://dutchesscountyregional.smartcms.site/events/details/dutchess-tourism-s-2019-lunch-learn-seminar-using-google-s-free-my-business-tools-10480500
END:VEVENT

END:VCALENDAR
