BEGIN:VCALENDAR
VERSION:2.0
PRODID:-//ChamberMaster//Event Calendar 2.0//EN
METHOD:PUBLISH
X-PUBLISHED-TTL:P3D
REFRESH-INTERVAL:P3D
CALSCALE:GREGORIAN
BEGIN:VEVENT
DTSTART:20190421T150000Z
DTEND:20190421T190000Z
X-MICROSOFT-CDO-ALLDAYEVENT:FALSE
SUMMARY:Easter Brunch
DESCRIPTION:Join the Mustakas family for Easter brunch buffet with two different options for seating times either 11 or 1:30. Enjoy breakfast or lunch or a little bit of both! See our facebook or web page for more details.
X-ALT-DESC;FMTTYPE=text/html:Join the Mustakas family for Easter brunch buffet with two different options for seating times either 11 or 1:30. Enjoy breakfast or lunch or a little bit of both! See our facebook or web page for more details.
LOCATION:Mill Creek Caterers 17 Route 376 Hopewell Junction NY 12533
UID:e.2770.10480649
SEQUENCE:3
DTSTAMP:20260423T053911Z
URL:http://dutchesscountyregional.smartcms.site/events/details/easter-brunch-10480649
END:VEVENT

END:VCALENDAR
