BEGIN:VCALENDAR
VERSION:2.0
PRODID:-//ChamberMaster//Event Calendar 2.0//EN
METHOD:PUBLISH
X-PUBLISHED-TTL:P3D
REFRESH-INTERVAL:P3D
CALSCALE:GREGORIAN
BEGIN:VEVENT
DTSTART:20191105T161500Z
DTEND:20191105T174500Z
X-MICROSOFT-CDO-ALLDAYEVENT:FALSE
SUMMARY:Election Day Clinic
DESCRIPTION:Election Day Clinic November 5th - McCann 11:15am-12:45pm
X-ALT-DESC;FMTTYPE=text/html:Election Day Clinic November 5th - McCann 11:15am-12:45pm
LOCATION:MJN Convention Center McCann Ice Arena Poughkeepsie\, NY 12601
UID:e.2770.10482534
SEQUENCE:3
DTSTAMP:20260422T154952Z
URL:http://dutchesscountyregional.smartcms.site/events/details/election-day-clinic-11-05-2019-10482534
END:VEVENT

END:VCALENDAR
