BEGIN:VCALENDAR
VERSION:2.0
PRODID:-//ChamberMaster//Event Calendar 2.0//EN
METHOD:PUBLISH
X-PUBLISHED-TTL:P3D
REFRESH-INTERVAL:P3D
CALSCALE:GREGORIAN
BEGIN:VEVENT
DTSTART:20210420T230000Z
DTEND:20210421T000000Z
X-MICROSOFT-CDO-ALLDAYEVENT:FALSE
SUMMARY:Experts to discuss NY’s Climate Leadership and Community Protection Act
DESCRIPTION:Do you want to lower your carbon footprint\, but don't know the most affordable ways to do so?\n\nDo you support the New York state's efforts to reduce carbon emissions\, but are concerned what it will cost?\n\nJoin Central Hudson's first Facebook live event in which experts will examine New York's Climate Leadership and Community Protection Act\, strategies and challenges in meeting the state's goals\, and what you can do to help.\n\nThe debut episode will incorporate a newly released video and live discussion featuring Betta Broad\, the director of advocacy & organizing at the Association for Energy Affordability and campaign director of New Yorkers for Clean Power\, and Anthony Campagiorni\, Vice President of Customer Services and Gas Operations at Central Hudson.\n\nViewers will also have the opportunity to submit questions and comments that will be addressed during the live broadcast.\n\nTo participate\, tune in on Central Hudson's Facebook page on April 20 at 7 p.m.
X-ALT-DESC;FMTTYPE=text/html:<span style="font-family:arial\,sans-serif\;">Do you want to lower your carbon footprint\, but don&rsquo\;t know the most affordable ways to do so?</span><br />\n<span style="font-family:arial\,sans-serif\;">Do you support the New York state&rsquo\;s efforts to reduce carbon emissions\, but are concerned what it will cost?</span><br />\n<span style="font-family:arial\,sans-serif\;">Join Central Hudson&rsquo\;s first Facebook live event in which experts will examine New York&rsquo\;s Climate Leadership and Community Protection Act\, strategies and challenges in&nbsp\;meeting the state&rsquo\;s goals\, and what you can do to help.</span><br />\n<span style="font-family:arial\,sans-serif\;">The debut episode will incorporate a newly released video and live discussion featuring Betta Broad\, the director of advocacy &amp\; organizing at the Association for Energy Affordability and campaign director of New Yorkers for Clean Power\, and Anthony Campagiorni\, Vice President of Customer Services and Gas Operations at Central Hudson.</span><br />\n<span style="font-family:arial\,sans-serif\;">Viewers will also have the opportunity to submit questions and comments that will be addressed during the live broadcast.</span><br />\n<strong><span style="font-family:arial\,sans-serif\;">To participate\, tune in on&nbsp\;</span></strong><a name="https___facebook_centralhudson_"></a><a href="https://nam04.safelinks.protection.outlook.com/?url=https%3A%2F%2Furldefense.com%2Fv3%2F__http%3A%2Fgo2.mailengine1.com%2Fclick%2Ffdwk-2dutea-2g8t3y-9o15h4x3%2F__%3B!!B4QgaNoyhA!1pvIuH0JfsOFuD-4pepjFj_aRT5JNJemP7CY3j8b-yEh9N1cF50Gd1ScH499qUw%24&amp\;data=04%7C01%7Cfrank%40dcrcoc.org%7Cff39a9f501df4d674fd208d8ff440f0c%7C2f12d5574b0742e1bc30171797d71f6b%7C1%7C1%7C637540015080252574%7CUnknown%7CTWFpbGZsb3d8eyJWIjoiMC4wLjAwMDAiLCJQIjoiV2luMzIiLCJBTiI6Ik1haWwiLCJXVCI6Mn0%3D%7C2000&amp\;sdata=PJCNPRuxJRGWxL5ZjqRkye9q%2FJpv0OPKm6FKfe6Pe1c%3D&amp\;reserved=0"><strong><span style="color:#0070C0\;"><span style="font-family:arial\,sans-serif\;">Central Hudson&rsquo\;s Facebook page</span></span></strong></a><strong><span style="font-family:arial\,sans-serif\;">&nbsp\;on April 20 at 7 p.m.</span></strong>
LOCATION:
UID:e.2770.10485081
SEQUENCE:3
DTSTAMP:20260421T114745Z
URL:http://dutchesscountyregional.smartcms.site/events/details/experts-to-discuss-ny-s-climate-leadership-and-community-protection-act-10485081
END:VEVENT

END:VCALENDAR
