BEGIN:VCALENDAR
VERSION:2.0
PRODID:-//ChamberMaster//Event Calendar 2.0//EN
METHOD:PUBLISH
X-PUBLISHED-TTL:P3D
REFRESH-INTERVAL:P3D
CALSCALE:GREGORIAN
BEGIN:VEVENT
DTSTART:20191005T140000Z
DTEND:20191005T220000Z
X-MICROSOFT-CDO-ALLDAYEVENT:FALSE
SUMMARY:Fall for Joules – Right As Rain Event at Fishkill Farms
DESCRIPTION:Join Joules at in the courtyard of Fishkill Farms on Saturday\, October 5th as they display their autumn collection of cozy rain jackets and wellies. Embrace the season with festive giveaways\, treats\, photo ops\, and more! Joules will also be hosting a special apple hunt throughout the day. Keep an eye out for bright pink Joules apples throughout the orchard and return them to the Joules team in the courtyard to claim your prize! *Rain date   Sunday\, October 6th @JoulesUSA #JoulesRightasRain #FallforJoules
X-ALT-DESC;FMTTYPE=text/html:Join Joules at in the courtyard of Fishkill Farms on Saturday\, October 5th as they display their autumn collection of cozy rain jackets and wellies. Embrace the season with festive giveaways\, treats\, photo ops\, and more! Joules will also be hosting a special apple hunt throughout the day. Keep an eye out for bright pink Joules apples throughout the orchard and return them to the Joules team in the courtyard to claim your prize! *Rain date &ndash\; Sunday\, October 6th @JoulesUSA #JoulesRightasRain #FallforJoules
LOCATION:9 Fishkill Farm Rd\, Hopewell Junction\, NY 12533
UID:e.2770.10481477
SEQUENCE:3
DTSTAMP:20260422T172807Z
URL:http://dutchesscountyregional.smartcms.site/events/details/fall-for-joules-right-as-rain-event-at-fishkill-farms-10481477
END:VEVENT

END:VCALENDAR
