BEGIN:VCALENDAR
VERSION:2.0
PRODID:-//ChamberMaster//Event Calendar 2.0//EN
METHOD:PUBLISH
X-PUBLISHED-TTL:P3D
REFRESH-INTERVAL:P3D
CALSCALE:GREGORIAN
BEGIN:VEVENT
DTSTART;VALUE=DATE:20210409
DTEND;VALUE=DATE:20210410
TRANSP:TRANSPARENT
X-MICROSOFT-CDO-ALLDAYEVENT:TRUE
SUMMARY:Family Adventure Trips
DESCRIPTION:Come visit us at Sharpe Reservation for an outdoor family adventure! We're open from January until June to provide safe\, quality outdoor experiences for families. Families can choose from several different options each season to create a trip that the whole family will enjoy! Winter: Snow shoeing\, fire building\, birdwatching and more! Spring: Maple syruping\, planetarium\, fishing and more! For Covid-19 safety procedures\, follow the link below to our website.
X-ALT-DESC;FMTTYPE=text/html:Come visit us at Sharpe Reservation for an outdoor family adventure! We&rsquo\;re open from January until June to provide safe\, quality outdoor experiences for families. Families can choose from several different options each season to create a trip that the whole family will enjoy! Winter: Snow shoeing\, fire building\, birdwatching and more! Spring: Maple syruping\, planetarium\, fishing and more! For Covid-19 safety procedures\, follow the link below to our website.
LOCATION:The Fresh Air Fund - Sharpe Reservation 436 Van Wyck Lake Road Fishkill\, NY 12589
UID:e.2770.10484847
SEQUENCE:3
DTSTAMP:20260421T114736Z
URL:http://dutchesscountyregional.smartcms.site/events/details/family-adventure-trips-10484847
END:VEVENT

END:VCALENDAR
