BEGIN:VCALENDAR
VERSION:2.0
PRODID:-//ChamberMaster//Event Calendar 2.0//EN
METHOD:PUBLISH
X-PUBLISHED-TTL:P3D
REFRESH-INTERVAL:P3D
CALSCALE:GREGORIAN
BEGIN:VEVENT
DTSTART:20210325T210000Z
DTEND:20210325T223000Z
X-MICROSOFT-CDO-ALLDAYEVENT:FALSE
SUMMARY:Financial Health: Take Control of Your Finances / Online Program
DESCRIPTION:Registration is required. Register directly on the Pawling Library's calendar or contact Donald\, our Adult Program Coordinator\, at adult@pawlinglibrary.org. This course has been designed to help you achieve financial health. Course topics include: Effective budgeting Understanding credit Setting financial goals and the tools to achieve them Please join Leona O'Connell\, Housing Counselor at Hudson River Housing's NeighborWorks HomeOwnership Center\, for this FREE in-depth financial  presentation.
X-ALT-DESC;FMTTYPE=text/html:Registration is required. Register directly on the Pawling Library&rsquo\;s calendar or contact Donald\, our Adult Program Coordinator\, at adult@pawlinglibrary.org. This course has been designed to help you achieve financial health. Course topics include: Effective budgeting Understanding credit Setting financial goals and the tools to achieve them Please join Leona O&rsquo\;Connell\, Housing Counselor at Hudson River Housing&#39\;s NeighborWorks HomeOwnership&nbsp\;Center\, for this FREE in-depth financial&nbsp\; presentation.
LOCATION:Pawling Library
UID:e.2770.10484961
SEQUENCE:3
DTSTAMP:20260421T132136Z
URL:http://dutchesscountyregional.smartcms.site/events/details/financial-health-take-control-of-your-finances-online-program-10484961
END:VEVENT

END:VCALENDAR
