BEGIN:VCALENDAR
VERSION:2.0
PRODID:-//ChamberMaster//Event Calendar 2.0//EN
METHOD:PUBLISH
X-PUBLISHED-TTL:P3D
REFRESH-INTERVAL:P3D
CALSCALE:GREGORIAN
BEGIN:VEVENT
DTSTART:20200728T160000Z
DTEND:20200728T180000Z
X-MICROSOFT-CDO-ALLDAYEVENT:FALSE
SUMMARY:Finding Your Angel
DESCRIPTION:In this webinar\, we will look at your business with an eye toward raising investor capital.  Is there an angel out there waiting for you?  We will look at the qualities of your business and the key traits that get angel investors excited about supporting you and your business.\n\n\n\nWe will explore:\n\n  The match - You\, your team and the investor\n\n  Your business - Is your business investible?\n\n  Types of investors\n\n  Types of investor rounds  \n\n\n\nYou will leave with valuable insights about the angel investor world and what it takes to succeed with early stage startup investors.
X-ALT-DESC;FMTTYPE=text/html:<p><span style="font-size:16px">In this webinar\, we will look at your business with an eye toward raising investor capital.&nbsp\; Is there an angel out there waiting for you?&nbsp\; We will look at the qualities of your business and the key traits that get angel investors excited about supporting you and your business.<br />\n<br />\n<strong>We will explore:</strong><br />\n&bull\; The match - You\, your team and the investor<br />\n&bull\; Your business - Is your business investible?<br />\n&bull\; Types of investors<br />\n&bull\; Types of investor rounds&nbsp\;&nbsp\;<br />\n<br />\nYou will leave with valuable insights about the angel investor world and what it takes to succeed with early stage startup investors.</span></p>\n
LOCATION:Online
UID:e.2770.10483328
SEQUENCE:3
DTSTAMP:20260422T015830Z
URL:http://dutchesscountyregional.smartcms.site/events/details/finding-your-angel-10483328
END:VEVENT

END:VCALENDAR
